BEGIN:VCALENDAR
VERSION:2.0
PRODID:-//ChamberMaster//Event Calendar 2.0//EN
METHOD:PUBLISH
X-PUBLISHED-TTL:P3D
REFRESH-INTERVAL:P3D
CALSCALE:GREGORIAN
BEGIN:VEVENT
DTSTART:20220310T173000Z
DTEND:20220310T190000Z
X-MICROSOFT-CDO-ALLDAYEVENT:FALSE
SUMMARY:42 Sales Tips in 42 Minutes
DESCRIPTION:After the last three years of this successful event\, you will NOT want to miss the 2022 version IN PERSON. So get registered and get your sales team to this fast-paced event. Also registrants will take away a fun sales guide in LIVING COLOR\, chock-full of new ideas and reminders of the classics that work sale after sale\, year after year.\n\n\n\nPanel includes:\n\nLisa Behrends\, Director of Development\, Meals from the Heartland\n\nMolly Lopez\, Senior Consultant/Business Development Team\, B ton Global \n\nJen Nelson\, Business Development Consultant\, The Iowa Clinic\n\nNataliya Boychenko Stone\, Client Executive - Team Lead\, Holmes Murphy\n\nTerrence Thames\, CEO & Creative Director\, Cocoa Creative Agency\n\nAlec Wilcox\, Commercial Real Estate Broker\, Cushman & Wakefield Iowa Commercial Advisors
X-ALT-DESC;FMTTYPE=text/html:After the last three years of this successful event\, you will NOT want to miss the 2022 version IN PERSON. So get registered and get your sales team to this fast-paced event. Also registrants will take away a fun sales guide in LIVING COLOR\, chock-full of new ideas and reminders of the classics that work sale after sale\, year after year.<br />\n<br />\nPanel includes:<br />\n<strong>Lisa Behrends\,&nbsp\;</strong>Director of Development\, Meals from the Heartland<br />\n<strong>Molly Lopez</strong>\, Senior Consultant/Business Development Team\,&nbsp\;B&acirc\;ton Global&nbsp\;<br />\n<strong>Jen Nelson</strong>\, Business Development Consultant\, The Iowa Clinic<br />\n<strong>Nataliya Boychenko Stone</strong>\, Client Executive - Team Lead\, Holmes Murphy<br />\n<strong>Terrence Thames</strong>\,&nbsp\;CEO &amp\; Creative Director\, Cocoa Creative Agency<br />\n<strong>Alec Wilcox</strong>\, Commercial Real Estate Broker\, Cushman &amp\; Wakefield Iowa Commercial Advisors
LOCATION:Des Moines Golf & Country Club 1600 Jordan Creek Pkwy\, West Des Moines\, IA 50266
UID:e.2655.1446
SEQUENCE:3
DTSTAMP:20260425T170625Z
URL:https://members.wdmchamber.org/events/details/42-sales-tips-in-42-minutes-1446
END:VEVENT

END:VCALENDAR
