BEGIN:VCALENDAR
VERSION:2.0
PRODID:-//ChamberMaster//Event Calendar 2.0//EN
METHOD:PUBLISH
X-PUBLISHED-TTL:P3D
REFRESH-INTERVAL:P3D
CALSCALE:GREGORIAN
BEGIN:VEVENT
DTSTART:20240726T220000Z
DTEND:20240727T020000Z
X-MICROSOFT-CDO-ALLDAYEVENT:FALSE
SUMMARY:A Night with Bella Love
DESCRIPTION:Help us keep the magic alive at Bella Love Event Venue by joining our heartfelt fundraiser aimed at ensuring the only black woman owned venue not only survives but thrives! Bella Love has been the backdrop for countless cherished memories\, and with your support\, we can continue to offer an enchanting space for weddings\, celebrations\, and more. The evening will feature live entertainment\, delectable food\, raffled. and a silent auction\, all within our signature\, enchanting setting. Your contribution is crucial in maintaining the venue's operations and expanding our offerings\, ensuring that Bella Love can keep bringing joy to all who walk through its doors. Join us July 26th\, 2024 and be a part of preserving and growing this wonderful space!
X-ALT-DESC;FMTTYPE=text/html:<span style="font-family:aptos\,sans-serif"><span style="font-size:12.0pt">Help us keep the magic alive at Bella Love Event Venue by joining our heartfelt fundraiser aimed at ensuring the only black woman owned venue not only survives but thrives! Bella Love has been the backdrop for countless cherished memories\, and with your support\, we can continue to offer an enchanting space for weddings\, celebrations\, and more. The evening will feature live entertainment\, delectable food\, raffled. and a silent auction\, all within our signature\, enchanting setting. Your contribution is crucial in maintaining the venue&rsquo\;s operations and expanding our offerings\, ensuring that Bella Love can keep bringing joy to all who walk through its doors. Join us July 26th\, 2024 and be a part of preserving and growing this wonderful space!</span></span>
LOCATION:Bella Love Event Venue 8801 University Ave Suite 29 Clive\, IA 50325
UID:e.2655.3887
SEQUENCE:3
DTSTAMP:20260423T134718Z
URL:https://members.wdmchamber.org/events/details/a-night-with-bella-love-3887
END:VEVENT

END:VCALENDAR
