BEGIN:VCALENDAR
VERSION:2.0
PRODID:-//ChamberMaster//Event Calendar 2.0//EN
METHOD:PUBLISH
X-PUBLISHED-TTL:P3D
REFRESH-INTERVAL:P3D
CALSCALE:GREGORIAN
BEGIN:VEVENT
DTSTART:20240802T000000Z
DTEND:20240802T030000Z
X-MICROSOFT-CDO-ALLDAYEVENT:FALSE
SUMMARY:A Tribute to Neil Diamond
DESCRIPTION:Enjoy the Hot August Night Neil Diamond Tribute Show starring Rob Garrett "King of Diamonds" direct from Las Vegas\, in the Finish Line Show Lounge. Don't miss your chance to experience the music that made Neil Diamond a superstar.
X-ALT-DESC;FMTTYPE=text/html:<span style="font-size:12px"><span style="color:rgb(37\, 37\, 37)">Enjoy the Hot August Night Neil Diamond Tribute Show starring Rob Garrett &ldquo\;King of Diamonds&rdquo\; direct from Las Vegas\, in the Finish Line Show Lounge. Don&rsquo\;t miss your chance to experience the music that made Neil Diamond a superstar.</span></span>
LOCATION:Prairie Meadows Casino & Racetrack 1 Prairie Meadows Dr\, Altoona\, IA 50009
UID:e.2655.3831
SEQUENCE:3
DTSTAMP:20260419T181453Z
URL:https://members.wdmchamber.org/events/details/a-tribute-to-neil-diamond-3831
END:VEVENT

END:VCALENDAR
