BEGIN:VCALENDAR
VERSION:2.0
PRODID:-//ChamberMaster//Event Calendar 2.0//EN
METHOD:PUBLISH
X-PUBLISHED-TTL:P3D
REFRESH-INTERVAL:P3D
CALSCALE:GREGORIAN
BEGIN:VEVENT
DTSTART:20240403T123000Z
DTEND:20240403T133000Z
X-MICROSOFT-CDO-ALLDAYEVENT:FALSE
SUMMARY:April 2024 Breakfast B4 Business: Glen Meadows Retirement Community
DESCRIPTION:Start your morning off with coffee\, breakfast\, and networking with your fellow West Des Moines community members.\n\n\nNotice of Photographic & Media Recording: When you attend a West Des Moines Chamber of Commerce event\, photography\, audio\, and video recording may occur. By attending this event\, you consent to such recording media and your image and likeness being used in connection with the advertising\, marketing\, and promotion of the West Des Moines Chamber of Commerce and/or City of West Des Moines.
X-ALT-DESC;FMTTYPE=text/html:<p><span style="color: rgb(68\, 68\, 68)\; font-family: Montserrat\, sans-serif\; font-size: 16px\;">Start your morning off with coffee\, breakfast\, and networking with your fellow West Des Moines community members.</span></p>\n<br style="box-sizing: border-box\; color: rgb(68\, 68\, 68)\; font-family: Montserrat\, sans-serif\; font-size: 24px\;" />\n<span style="box-sizing: border-box\; font-weight: bolder\; color: rgb(102\, 102\, 102)\; font-family: Lato\, sans-serif\; font-size: 10px\;">Notice of Photographic &amp\; Media Recording</span><span style="box-sizing: border-box\; color: rgb(102\, 102\, 102)\; font-family: Lato\, sans-serif\; font-size: 10px\;">: When you attend a West Des Moines Chamber of Commerce event\, photography\, audio\, and video recording may occur. By attending this event\, you consent to such recording media and your image and likeness being used in connection with the advertising\, marketing\, and promotion of the West Des Moines Chamber of Commerce and/or City of West Des Moines.</span>
LOCATION:Glen Meadows 850 S 60th St. Building 1000 West Des Moines\, IA 50265
UID:e.2655.3562
SEQUENCE:3
DTSTAMP:20260423T203741Z
URL:https://members.wdmchamber.org/events/details/april-2024-breakfast-b4-business-glen-meadows-retirement-community-3562
END:VEVENT

END:VCALENDAR
