BEGIN:VCALENDAR
VERSION:2.0
PRODID:-//ChamberMaster//Event Calendar 2.0//EN
METHOD:PUBLISH
X-PUBLISHED-TTL:P3D
REFRESH-INTERVAL:P3D
CALSCALE:GREGORIAN
BEGIN:VEVENT
DTSTART:20250814T163000Z
DTEND:20250814T180000Z
X-MICROSOFT-CDO-ALLDAYEVENT:FALSE
SUMMARY:August 2025 Luncheon: Classroom to Career
DESCRIPTION:Building Iowa's Talent Pipeline where education meets innovation\, and the future of Iowa's workforce is shaped.\n\n\n\n\nExpert Speakers:\n\n\n	\n	Kristin Brookover\, PhD   Associate Vice President of Student Affairs / DMACC\n	\n	\n	Dr. Bradly Buck   Superintendent / Waukee Community School District\n	\n	\n	Dr. Rachelle K. Keck   President / Grand View University\n	\n	\n	Georgia Van Gundy   Deputy Director / Iowa Workforce Development\n	\n\n\n\nModerator: \n\n\n	Meredith Murphy - Director of Future Workforce / West Des Moines Chamber of Commerce\n\n\nThis high-impact lunch brings together top minds in education\, business\, and workforce development to discuss how we can better educate\, retain\, and attract the talent our state needs to thrive.\n\n \n\nThis year's focus:\n\nHow do we shape Iowa's education landscape to better align with evolving workforce demands? How can we address brain drain\, enhance talent retention\, and ensure Iowa is not just a place to grow up   but a place to grow careers? We'll bring together top leaders from across the region to reflect\, collaborate\, and ignite bold ideas for the future of education and workforce development in our state.\n\n \n\nOur expert panelist will speak on the following topics:\n\n\n	\n	Innovative education models and partnerships\n	\n	\n	Workforce readiness and career pathways\n	\n	\n	Talent attraction and retention strategies\n	\n	\n	Keeping Iowa graduates and professionals rooted in the state\n	\n	\n	Creating a collaborative pipeline from classroom to career\n\n	 \n	\n\n\nWe are all part of helping shape the future of education\, workforce\, and economic development in Iowa   Join us to inspire\, collaborate\, and move Iowa forward.\n\n\nNotice of Photographic & Media Recording: When you attend a West Des Moines Chamber of Commerce event\, photography\, audio\, and video recording may occur. By attending this event\, you consent to such recording media and your image and likeness being used in connection with the advertising\, marketing\, and promotion of the West Des Moines Chamber of Commerce and/or City of West Des Moines.
X-ALT-DESC;FMTTYPE=text/html:<p><span style="font-size:14px\;"><span style="font-family:arial\;"><strong><span data-olk-copy-source="MessageBody">Building Iowa&rsquo\;s Talent Pipeline&nbsp\;where education meets innovation\, and the future of Iowa&rsquo\;s workforce is shaped.</span></strong></span></span></p>\n\n<div aria-hidden="true" class="x_elementToProof" data-olk-copy-source="MessageBody" style="border: 0px\; font-variant-numeric: inherit\; font-variant-east-asian: inherit\; font-variant-alternates: inherit\; font-variant-position: inherit\; font-variant-emoji: inherit\; font-stretch: inherit\; font-size: 12pt\; line-height: inherit\; font-family: Aptos\, Aptos_EmbeddedFont\, Aptos_MSFontService\, Calibri\, Helvetica\, sans-serif\; font-optical-sizing: inherit\; font-size-adjust: inherit\; font-kerning: inherit\; font-feature-settings: inherit\; font-variation-settings: inherit\; margin: 0px\; padding: 0px\; vertical-align: baseline\; color: rgb(0\, 0\, 0)\; direction: ltr\; text-align: justify\;">\n<p class="x_elementToProof" style="border: 0px\; font-variant-numeric: inherit\; font-variant-east-asian: inherit\; font-variant-alternates: inherit\; font-variant-position: inherit\; font-variant-emoji: inherit\; font-stretch: inherit\; font-size: 12pt\; line-height: inherit\; font-family: Aptos\, Aptos_EmbeddedFont\, Aptos_MSFontService\, Calibri\, Helvetica\, sans-serif\; font-optical-sizing: inherit\; font-size-adjust: inherit\; font-kerning: inherit\; font-feature-settings: inherit\; font-variation-settings: inherit\; margin: 0px\; padding: 0px\; vertical-align: baseline\; direction: ltr\; text-align: justify\; color: rgb(0\, 0\, 0) !important\;"><br />\n<span style="font-size:14px\;"><span style="font-family:arial\;"><b data-olk-copy-source="MessageBody">Expert Speakers:</b></span></span></p>\n\n<ul dir="ltr">\n	<li class="x_elementToProof" style="border: 0px\; font-variant-numeric: inherit\; font-variant-east-asian: inherit\; font-variant-alternates: inherit\; font-variant-position: inherit\; font-variant-emoji: inherit\; font-stretch: inherit\; font-size: 12pt\; line-height: inherit\; font-family: Aptos\, Aptos_EmbeddedFont\, Aptos_MSFontService\, Calibri\, Helvetica\, sans-serif\; font-optical-sizing: inherit\; font-size-adjust: inherit\; font-kerning: inherit\; font-feature-settings: inherit\; font-variation-settings: inherit\; margin: 0px\; padding: 0px\; vertical-align: baseline\; text-align: justify\; color: rgb(0\, 0\, 0) !important\;">\n	<p><span style="font-size:14px\;"><span style="font-family:arial\;">Kristin Brookover\, PhD &ndash\; Associate Vice President of Student Affairs / DMACC</span></span></p>\n	</li>\n	<li class="x_elementToProof" style="border: 0px\; font-variant-numeric: inherit\; font-variant-east-asian: inherit\; font-variant-alternates: inherit\; font-variant-position: inherit\; font-variant-emoji: inherit\; font-stretch: inherit\; font-size: 12pt\; line-height: inherit\; font-family: Aptos\, Aptos_EmbeddedFont\, Aptos_MSFontService\, Calibri\, Helvetica\, sans-serif\; font-optical-sizing: inherit\; font-size-adjust: inherit\; font-kerning: inherit\; font-feature-settings: inherit\; font-variation-settings: inherit\; margin: 0px\; padding: 0px\; vertical-align: baseline\; text-align: justify\; color: rgb(0\, 0\, 0) !important\;">\n	<p><span style="font-size:14px\;"><span style="font-family:arial\;">Dr. Bradly Buck &ndash\; Superintendent / Waukee Community School District</span></span></p>\n	</li>\n	<li class="x_elementToProof" style="border: 0px\; font-variant-numeric: inherit\; font-variant-east-asian: inherit\; font-variant-alternates: inherit\; font-variant-position: inherit\; font-variant-emoji: inherit\; font-stretch: inherit\; font-size: 12pt\; line-height: inherit\; font-family: Aptos\, Aptos_EmbeddedFont\, Aptos_MSFontService\, Calibri\, Helvetica\, sans-serif\; font-optical-sizing: inherit\; font-size-adjust: inherit\; font-kerning: inherit\; font-feature-settings: inherit\; font-variation-settings: inherit\; margin: 0px\; padding: 0px\; vertical-align: baseline\; text-align: justify\; color: rgb(0\, 0\, 0) !important\;">\n	<p><span style="font-size:14px\;"><span style="font-family:arial\;">Dr. Rachelle K. Keck &ndash\; President / Grand View University</span></span></p>\n	</li>\n	<li class="x_elementToProof" style="border: 0px\; font-variant-numeric: inherit\; font-variant-east-asian: inherit\; font-variant-alternates: inherit\; font-variant-position: inherit\; font-variant-emoji: inherit\; font-stretch: inherit\; font-size: 12pt\; line-height: inherit\; font-family: Aptos\, Aptos_EmbeddedFont\, Aptos_MSFontService\, Calibri\, Helvetica\, sans-serif\; font-optical-sizing: inherit\; font-size-adjust: inherit\; font-kerning: inherit\; font-feature-settings: inherit\; font-variation-settings: inherit\; margin: 0px\; padding: 0px\; vertical-align: baseline\; text-align: justify\; color: rgb(0\, 0\, 0) !important\;">\n	<p><span style="font-size:14px\;"><span style="font-family:arial\;">Georgia Van Gundy &ndash\; Deputy Director / Iowa Workforce Development</span></span></p>\n	</li>\n</ul>\n</div>\n\n<p class="x_elementToProof" style="border: 0px\; font-variant-numeric: inherit\; font-variant-east-asian: inherit\; font-variant-alternates: inherit\; font-variant-position: inherit\; font-variant-emoji: inherit\; font-stretch: inherit\; font-size: 12pt\; line-height: inherit\; font-family: Aptos\, Aptos_EmbeddedFont\, Aptos_MSFontService\, Calibri\, Helvetica\, sans-serif\; font-optical-sizing: inherit\; font-size-adjust: inherit\; font-kerning: inherit\; font-feature-settings: inherit\; font-variation-settings: inherit\; margin: 0px\; padding: 0px\; vertical-align: baseline\; color: rgb(0\, 0\, 0)\; direction: ltr\; text-align: justify\;"><b data-olk-copy-source="MessageBody" style="font-family: arial\; font-size: 14px\;">Moderator:&nbsp\;</b></p>\n\n<ul dir="ltr">\n	<li class="x_elementToProof" style="border: 0px\; font-variant-numeric: inherit\; font-variant-east-asian: inherit\; font-variant-alternates: inherit\; font-variant-position: inherit\; font-variant-emoji: inherit\; font-stretch: inherit\; font-size: 12pt\; line-height: inherit\; font-family: Aptos\, Aptos_EmbeddedFont\, Aptos_MSFontService\, Calibri\, Helvetica\, sans-serif\; font-optical-sizing: inherit\; font-size-adjust: inherit\; font-kerning: inherit\; font-feature-settings: inherit\; font-variation-settings: inherit\; margin: 0px\; padding: 0px\; vertical-align: baseline\; color: rgb(0\, 0\, 0)\; text-align: justify\;">Meredith Murphy - Director of Future Workforce / West Des Moines Chamber of Commerce</li>\n</ul>\n\n<p class="x_elementToProof" style="border: 0px\; font-variant-numeric: inherit\; font-variant-east-asian: inherit\; font-variant-alternates: inherit\; font-variant-position: inherit\; font-variant-emoji: inherit\; font-stretch: inherit\; font-size: 12pt\; line-height: inherit\; font-family: Aptos\, Aptos_EmbeddedFont\, Aptos_MSFontService\, Calibri\, Helvetica\, sans-serif\; font-optical-sizing: inherit\; font-size-adjust: inherit\; font-kerning: inherit\; font-feature-settings: inherit\; font-variation-settings: inherit\; margin: 0px\; padding: 0px\; vertical-align: baseline\; color: rgb(0\, 0\, 0)\; direction: ltr\; text-align: justify\;"><span style="font-size:14px\;"><span style="font-family:arial\;">This high-impact lunch brings together top minds in education\, business\, and workforce development to discuss how we can better&nbsp\;<b>educate\, retain\, and attract</b>&nbsp\;the talent our state needs to thrive.</span></span></p>\n\n<p aria-hidden="true" class="x_elementToProof" style="border: 0px\; font-variant-numeric: inherit\; font-variant-east-asian: inherit\; font-variant-alternates: inherit\; font-variant-position: inherit\; font-variant-emoji: inherit\; font-stretch: inherit\; font-size: 12pt\; line-height: inherit\; font-family: Aptos\, Aptos_EmbeddedFont\, Aptos_MSFontService\, Calibri\, Helvetica\, sans-serif\; font-optical-sizing: inherit\; font-size-adjust: inherit\; font-kerning: inherit\; font-feature-settings: inherit\; font-variation-settings: inherit\; margin: 0px\; padding: 0px\; vertical-align: baseline\; color: rgb(0\, 0\, 0)\; direction: ltr\; text-align: justify\;">&nbsp\;</p>\n\n<p class="x_elementToProof" style="border: 0px\; font-variant-numeric: inherit\; font-variant-east-asian: inherit\; font-variant-alternates: inherit\; font-variant-position: inherit\; font-variant-emoji: inherit\; font-stretch: inherit\; font-size: 12pt\; line-height: inherit\; font-family: Aptos\, Aptos_EmbeddedFont\, Aptos_MSFontService\, Calibri\, Helvetica\, sans-serif\; font-optical-sizing: inherit\; font-size-adjust: inherit\; font-kerning: inherit\; font-feature-settings: inherit\; font-variation-settings: inherit\; margin: 0px\; padding: 0px\; vertical-align: baseline\; color: rgb(0\, 0\, 0)\; direction: ltr\;"><span style="font-size:14px\;"><span style="font-family:arial\;"><b>This year&rsquo\;s focus:</b></span></span></p>\n\n<p class="x_elementToProof" style="border: 0px\; font-variant-numeric: inherit\; font-variant-east-asian: inherit\; font-variant-alternates: inherit\; font-variant-position: inherit\; font-variant-emoji: inherit\; font-stretch: inherit\; font-size: 12pt\; line-height: inherit\; font-family: Aptos\, Aptos_EmbeddedFont\, Aptos_MSFontService\, Calibri\, Helvetica\, sans-serif\; font-optical-sizing: inherit\; font-size-adjust: inherit\; font-kerning: inherit\; font-feature-settings: inherit\; font-variation-settings: inherit\; margin: 0px\; padding: 0px\; vertical-align: baseline\; color: rgb(0\, 0\, 0)\; direction: ltr\;"><span style="font-size:14px\;"><span style="font-family:arial\;">How do we shape Iowa&rsquo\;s education landscape to better align with evolving workforce demands? How can we address brain drain\, enhance talent retention\, and ensure Iowa is not just a place to grow up &mdash\; but a place to grow careers? We&rsquo\;ll bring together top leaders from across the region to reflect\, collaborate\, and ignite bold ideas for the future of education and workforce development in our state.</span></span></p>\n\n<p class="x_elementToProof" style="border: 0px\; font-variant-numeric: inherit\; font-variant-east-asian: inherit\; font-variant-alternates: inherit\; font-variant-position: inherit\; font-variant-emoji: inherit\; font-stretch: inherit\; font-size: 12pt\; line-height: inherit\; font-family: Aptos\, Aptos_EmbeddedFont\, Aptos_MSFontService\, Calibri\, Helvetica\, sans-serif\; font-optical-sizing: inherit\; font-size-adjust: inherit\; font-kerning: inherit\; font-feature-settings: inherit\; font-variation-settings: inherit\; margin: 0px\; padding: 0px\; vertical-align: baseline\; color: rgb(0\, 0\, 0)\; direction: ltr\;">&nbsp\;</p>\n\n<p class="x_elementToProof" style="border: 0px\; font-variant-numeric: inherit\; font-variant-east-asian: inherit\; font-variant-alternates: inherit\; font-variant-position: inherit\; font-variant-emoji: inherit\; font-stretch: inherit\; font-size: 12pt\; line-height: inherit\; font-family: Aptos\, Aptos_EmbeddedFont\, Aptos_MSFontService\, Calibri\, Helvetica\, sans-serif\; font-optical-sizing: inherit\; font-size-adjust: inherit\; font-kerning: inherit\; font-feature-settings: inherit\; font-variation-settings: inherit\; margin: 0px\; padding: 0px\; vertical-align: baseline\; color: rgb(0\, 0\, 0)\; direction: ltr\;"><span style="font-size:14px\;"><span style="font-family:arial\;"><b>Our expert panelist will speak on the following&nbsp\;topics:</b></span></span></p>\n\n<ul direction:="" font-size:="" helvetica="" margin-bottom:="" margin-top:="" segoe="" style="color: rgb(36\, 36\, 36)\; font-family: " ui="" web="" west="">\n	<li style="font-family: Aptos\, Aptos_EmbeddedFont\, Aptos_MSFontService\, Calibri\, Helvetica\, sans-serif\; font-size: 12pt\; color: rgb(0\, 0\, 0)\; direction: ltr\;">\n	<p><span style="font-size:14px\;"><span style="font-family:arial\;">Innovative education models and partnerships</span></span></p>\n	</li>\n	<li style="font-family: Aptos\, Aptos_EmbeddedFont\, Aptos_MSFontService\, Calibri\, Helvetica\, sans-serif\; font-size: 12pt\; color: rgb(0\, 0\, 0)\; direction: ltr\;">\n	<p><span style="font-size:14px\;"><span style="font-family:arial\;">Workforce readiness and career pathways</span></span></p>\n	</li>\n	<li style="font-family: Aptos\, Aptos_EmbeddedFont\, Aptos_MSFontService\, Calibri\, Helvetica\, sans-serif\; font-size: 12pt\; color: rgb(0\, 0\, 0)\; direction: ltr\;">\n	<p><span style="font-size:14px\;"><span style="font-family:arial\;">Talent attraction and retention strategies</span></span></p>\n	</li>\n	<li style="font-family: Aptos\, Aptos_EmbeddedFont\, Aptos_MSFontService\, Calibri\, Helvetica\, sans-serif\; font-size: 12pt\; color: rgb(0\, 0\, 0)\; direction: ltr\;">\n	<p><span style="font-size:14px\;"><span style="font-family:arial\;">Keeping Iowa graduates and professionals rooted in the state</span></span></p>\n	</li>\n	<li style="font-family: Aptos\, Aptos_EmbeddedFont\, Aptos_MSFontService\, Calibri\, Helvetica\, sans-serif\; font-size: 12pt\; color: rgb(0\, 0\, 0)\;">\n	<p role="presentation" style="border: 0px\; font: inherit\; margin: 0px\; padding: 0px\; vertical-align: baseline\; color: inherit\; direction: ltr\;"><span style="font-size:14px\;"><span style="font-family:arial\;">Creating a collaborative pipeline from classroom to career</span></span></p>\n\n	<p role="presentation" style="border: 0px\; font: inherit\; margin: 0px\; padding: 0px\; vertical-align: baseline\; color: inherit\; direction: ltr\;">&nbsp\;</p>\n	</li>\n</ul>\n\n<p class="x_elementToProof" style="border: 0px\; font-variant-numeric: inherit\; font-variant-east-asian: inherit\; font-variant-alternates: inherit\; font-variant-position: inherit\; font-variant-emoji: inherit\; font-stretch: inherit\; font-size: 12pt\; line-height: inherit\; font-family: Aptos\, Aptos_EmbeddedFont\, Aptos_MSFontService\, Calibri\, Helvetica\, sans-serif\; font-optical-sizing: inherit\; font-size-adjust: inherit\; font-kerning: inherit\; font-feature-settings: inherit\; font-variation-settings: inherit\; margin: 0px\; padding: 0px\; vertical-align: baseline\; color: rgb(0\, 0\, 0)\; direction: ltr\;"><span style="font-size:14px\;"><span style="font-family:arial\;">We are all part of helping shape the future of education\, workforce\, and economic development in Iowa &mdash\; Join us to inspire\, collaborate\, and move Iowa forward.</span></span></p>\n<br />\n<strong style="color: rgb(102\, 102\, 102)\; font-family: Lato\, sans-serif\; font-size: 10px\;">Notice of Photographic &amp\; Media Recording</strong><span style="color: rgb(102\, 102\, 102)\; font-family: Lato\, sans-serif\; font-size: 10px\;">: When you attend a West Des Moines Chamber of Commerce event\, photography\, audio\, and video recording may occur. By attending this event\, you consent to such recording media and your image and likeness being used in connection with the advertising\, marketing\, and promotion of the West Des Moines Chamber of Commerce and/or City of West Des Moines.</span>
LOCATION:The Rewind 6075 Mills Civic Pkwy West Des Moines\, IA 50266
UID:e.2655.3927
SEQUENCE:3
DTSTAMP:20260420T115528Z
URL:https://members.wdmchamber.org/events/details/august-2025-luncheon-classroom-to-career-3927
END:VEVENT

END:VCALENDAR
