BEGIN:VCALENDAR
VERSION:2.0
PRODID:-//ChamberMaster//Event Calendar 2.0//EN
METHOD:PUBLISH
X-PUBLISHED-TTL:P3D
REFRESH-INTERVAL:P3D
CALSCALE:GREGORIAN
BEGIN:VEVENT
DTSTART:20230817T163000Z
DTEND:20230817T180000Z
X-MICROSOFT-CDO-ALLDAYEVENT:FALSE
SUMMARY:August Luncheon: Education 2023 & Beyond: Strategies to Support Tomorrow's Leaders in Central Iowa
DESCRIPTION:Join the West Des Moines Chamber of Commerce at a special informative luncheon as we start the 2023   2024 school year. We will be discussing "Education 2023 & Beyond   Strategies to Support Tomorrow's Leaders in Central Iowa".\n\n\n\nThis is a moderated event where regional leaders will have the chance to talk about our world class public educational system\, successes\, and where we see opportunities for growth.\n\n\n\nAs attraction for workforce in our area continues to be fierce\, discussion for this panel will be around how do we prepare our students for the future\, how do we help motivate them for success\, and how do we maintain our world class education status. This will be an engaging conversation with area leaders and key stakeholders.\n\n\n\nIn this discussion\, we will share ideas and perspectives of how we can build strong leaders for tomorrow and make sure that no one gets left behind.\n\n \n\nEducation 2023 & Beyond:\n\nStrategies to Support Tomorrow's Leaders in Central Iowa\n\nEmbassy Club - West Des Moines\n\nAugust 17\, 2023\n\n11:30-12:00noon Networking\n\n12:00noon   1:00 Moderated Program\n\n10 Minutes Q&A \n\n\n\nFeatured Panelists:\n\n	Dr. Matt Adams - Superintendent / West Des Moines Community Schools\n	Dr. Brad Buck - Superintendent / Waukee School District\n	Dr. Rachelle Keck - President / Grand View University\n	Noelle Nelson - Executive Director / Avenue Scholars\n	Shane Scott - Director of Secondary Curriculum / Valley High School\n\n\nFeatured MC:\n\n\n	Laine Mendenhall-Buck - Director of School & Community Relations / West Des Moines Community School District\n\nNonprofit Spotlight:\n\n\n	Jonathan Ruth - CEO & Board Chair / Woodland Performing Arts\n\n\n\n\n\nNotice of Photographic & Media Recording: When you attend a West Des Moines Chamber of Commerce event\, photography\, audio\, and video recording may occur. By attending this event\, you consent to such recording media and your image and likeness being used in connection with the advertising\, marketing\, and promotion of the West Des Moines Chamber of Commerce and/or City of West Des Moines.
X-ALT-DESC;FMTTYPE=text/html:<br />\nJoin the West Des Moines Chamber of Commerce at a special informative luncheon as we start the 2023 &ndash\; 2024 school year. We will be discussing <em><strong>&ldquo\;Education 2023 &amp\; Beyond &ndash\; Strategies to Support Tomorrow&rsquo\;s Leaders in Central Iowa&rdquo\;.</strong></em><br />\n<br />\nThis is a moderated event where regional leaders will have the chance to talk about our world class public educational system\, successes\, and where we see opportunities for growth.<br />\n<br />\nAs attraction for workforce in our area continues to be fierce\, discussion for this panel will be around how do we prepare our students for the future\, how do we help motivate them for success\, and how do we maintain our world class education status. This will be an engaging conversation with area leaders and key stakeholders.<br />\n<br />\nIn this discussion\, we will share ideas and perspectives of how we can build strong leaders for tomorrow and make sure that no one gets left behind.<br />\n&nbsp\;<br />\n<strong>Education 2023 &amp\; Beyond:</strong><br />\n<strong>Strategies to Support Tomorrow&rsquo\;s Leaders in Central Iowa</strong><br />\nEmbassy Club - West Des Moines<br />\nAugust 17\, 2023<br />\n11:30-12:00noon Networking<br />\n12:00noon &ndash\; 1:00 Moderated Program<br />\n10 Minutes Q&amp\;A&nbsp\;<br />\n<br />\n<strong>Featured Panelists:</strong>\n<ul>\n	<li style="margin-left:0in\;"><strong>Dr. Matt Adams </strong>- Superintendent / West Des Moines Community Schools</li>\n	<li style="margin-left:0in\;"><strong>Dr. Brad Buck</strong> -&nbsp\;Superintendent / Waukee School District</li>\n	<li style="margin-left: 0in\;"><strong>Dr. Rachelle Keck</strong>&nbsp\;-&nbsp\;President / Grand View University</li>\n	<li style="margin-left:0in\;"><strong>Noelle Nelson</strong> -&nbsp\;Executive Director / Avenue Scholars</li>\n	<li style="margin-left:0in\;"><strong>Shane Scott</strong> -&nbsp\;Director of Secondary Curriculum / Valley High School</li>\n</ul>\n\n<div style="margin-left:0in\;"><strong>Featured MC:</strong></div>\n\n<ul>\n	<li style="margin-left: 0in\;"><strong>Laine Mendenhall-Buck</strong> - Director of School &amp\; Community Relations / West Des Moines Community School District</li>\n</ul>\n<strong>Nonprofit Spotlight:</strong>\n\n<ul>\n	<li><strong>Jonathan Ruth</strong> - CEO &amp\; Board Chair / Woodland Performing Arts</li>\n</ul>\n<br />\n<br />\n<strong style="color: rgb(102\, 102\, 102)\; font-family: Lato\, sans-serif\; font-size: 10px\;">Notice of Photographic &amp\; Media Recording</strong><span style="color: rgb(102\, 102\, 102)\; font-family: Lato\, sans-serif\; font-size: 10px\;">: When you attend a West Des Moines Chamber of Commerce event\, photography\, audio\, and video recording may occur. By attending this event\, you consent to such recording media and your image and likeness being used in connection with the advertising\, marketing\, and promotion of the West Des Moines Chamber of Commerce and/or City of West Des Moines.</span>
LOCATION:Embassy Club West 520 Market Street West Des Moines\, IA 50266
UID:e.2655.1752
SEQUENCE:3
DTSTAMP:20260424T080231Z
URL:https://members.wdmchamber.org/events/details/august-luncheon-education-2023-beyond-strategies-to-support-tomorrow-s-leaders-in-central-iowa-1752
END:VEVENT

END:VCALENDAR
