BEGIN:VCALENDAR
VERSION:2.0
PRODID:-//ChamberMaster//Event Calendar 2.0//EN
METHOD:PUBLISH
X-PUBLISHED-TTL:P3D
REFRESH-INTERVAL:P3D
CALSCALE:GREGORIAN
BEGIN:VEVENT
DTSTART:20250104T150000Z
DTEND:20250105T220000Z
X-MICROSOFT-CDO-ALLDAYEVENT:FALSE
SUMMARY:Bank of America Museums On Us
DESCRIPTION:Bank of America\, Merrill and Bank of America Private Bank cardholders can receive FREE general admission to the Science Center of Iowa in Des Moines Saturday\, Jan. 4 and Sunday\, Jan. 5.
X-ALT-DESC;FMTTYPE=text/html:Bank of America\, Merrill and Bank of America Private Bank cardholders can receive FREE general admission to the Science Center of Iowa in Des Moines Saturday\, Jan. 4 and Sunday\, Jan. 5.
LOCATION:Science Center of Iowa\, 401 W Martin Luther King Jr. Parkway\, Des Moines\, Iowa 50309
UID:e.2655.4426
SEQUENCE:3
DTSTAMP:20260422T090334Z
URL:https://members.wdmchamber.org/events/details/bank-of-america-museums-on-us-01-04-2025-4426
END:VEVENT

END:VCALENDAR
