BEGIN:VCALENDAR
VERSION:2.0
PRODID:-//ChamberMaster//Event Calendar 2.0//EN
METHOD:PUBLISH
X-PUBLISHED-TTL:P3D
REFRESH-INTERVAL:P3D
CALSCALE:GREGORIAN
BEGIN:VEVENT
DTSTART;VALUE=DATE:20240106
DTEND;VALUE=DATE:20240108
TRANSP:TRANSPARENT
X-MICROSOFT-CDO-ALLDAYEVENT:TRUE
SUMMARY:Bank of America Museums on Us
DESCRIPTION:WHAT: Bank of America\, Merrill and Bank of America Private Bank cardholders can receive FREE general admission to the Figge Art Museum in Davenport and Science Center of Iowa in Des Moines Saturday and Sunday. WHEN: Saturday\, January 6 & Sunday\, January 7 (+ the first full weekend of each month) WHERE: Learn something new this month with a visit to a participating cultural institution\, including:
X-ALT-DESC;FMTTYPE=text/html:WHAT: Bank of America\, Merrill and Bank of America Private Bank cardholders can receive FREE general admission to the Figge Art Museum in Davenport and Science Center of Iowa in Des Moines Saturday and Sunday. WHEN: Saturday\, January 6 &amp\; Sunday\, January 7 (+ the first full weekend of each month) WHERE: Learn something new this month with a visit to a participating cultural institution\, including:
LOCATION:Science Center of Iowa\, 401 W Martin Luther King Jr. Parkway\, Des Moines\, Iowa\, 50309\, 9 a.m.-4 p.m. Saturday and Sunday
UID:e.2655.3620
SEQUENCE:3
DTSTAMP:20260424T001848Z
URL:https://members.wdmchamber.org/events/details/bank-of-america-museums-on-us-01-06-2024-3620
END:VEVENT

END:VCALENDAR
