BEGIN:VCALENDAR
VERSION:2.0
PRODID:-//ChamberMaster//Event Calendar 2.0//EN
METHOD:PUBLISH
X-PUBLISHED-TTL:P3D
REFRESH-INTERVAL:P3D
CALSCALE:GREGORIAN
BEGIN:VEVENT
DTSTART;VALUE=DATE:20220806
DTEND;VALUE=DATE:20220807
TRANSP:TRANSPARENT
X-MICROSOFT-CDO-ALLDAYEVENT:TRUE
SUMMARY:Battle of the 'Burbs - 10K\, 5K & Kids Fun Run
DESCRIPTION:We're ready! Are you? Join us for the 2022 Battle of the 'Burbs to walk\, jog or run and raise money for your favorite suburb. It's all for a good cause. Prizes will be awarded to the top runners in each age category for men and women in the 5K and 10K. Bring the kids along for the Kids Fun Run. It features an obstacle course they're sure to enjoy. Additional activities for the kids will be available on that day\, too. When you register\, you'll be asked to choose a city - Clive\, Johnston\, Urbandale\, Waukee or West Des Moines - or you can choose all of them. We'll donate 100% of all registration fees to those communities. And the city with the most runners wins bragging rights and a travelling trophy. It's a unique way to celebrate our neighbors. And it all takes place on the NCMIC's campus. Enjoy a fun-filled day in a beautiful location. Sign up today!
X-ALT-DESC;FMTTYPE=text/html:We&#39\;re ready! Are you? Join us for the 2022 Battle of the &#39\;Burbs to walk\, jog or run and raise money for your favorite suburb. It&#39\;s all for a good cause. Prizes will be awarded to the top runners in each age category for men and women in the 5K and 10K. Bring the kids along for the Kids Fun Run. It features an obstacle course they&#39\;re sure to enjoy. Additional activities for the kids will be available on that day\, too. When you register\, you&#39\;ll be asked to choose a city - Clive\, Johnston\, Urbandale\, Waukee or West Des Moines - or you can choose all of them. We&#39\;ll donate 100% of all registration fees to those communities. And the city with the most runners wins bragging rights and a travelling trophy. It&#39\;s a unique way to celebrate our neighbors. And it all takes place on the NCMIC&#39\;s campus. Enjoy a fun-filled day in a beautiful location. Sign up today!
LOCATION:NCMIC - 14001 University Ave. - Clive\, IA
UID:e.2655.1614
SEQUENCE:3
DTSTAMP:20260425T112052Z
URL:https://members.wdmchamber.org/events/details/battle-of-the-burbs-10k-5k-kids-fun-run-08-06-2022-1614
END:VEVENT

END:VCALENDAR
