BEGIN:VCALENDAR
VERSION:2.0
PRODID:-//ChamberMaster//Event Calendar 2.0//EN
METHOD:PUBLISH
X-PUBLISHED-TTL:P3D
REFRESH-INTERVAL:P3D
CALSCALE:GREGORIAN
BEGIN:VEVENT
DTSTART:20240717T230000Z
DTEND:20240718T010000Z
X-MICROSOFT-CDO-ALLDAYEVENT:FALSE
SUMMARY:Beach Bingo
DESCRIPTION:For just $20\, you'll receive five rounds of bingo (and three cards per round)\, access to a lemonade bar\, treats and light snacks!\n\nAdd-Ons\n\n\n	Additional boards for $5 each (3 boards per sheet)\n	Bonus rounds of "blackout buy-in" for $5 each\n	Summer themed daubers for $5 each\n\n\nEvery game purchased provides 1 day of care for a pet in need plus more so YOU are a hero to a homeless pet just by participating in a game of Bingo!
X-ALT-DESC;FMTTYPE=text/html:<p>For just $20\, you&rsquo\;ll receive five rounds of bingo&nbsp\;(and three cards per round)\, access to a lemonade bar\, treats&nbsp\;and light snacks<span style="color:rgb(128\, 177\, 64)"><strong>!</strong></span></p>\n\n<h5>Add-Ons</h5>\n\n<ul>\n	<li>Additional boards&nbsp\;for $5 each (3 boards per sheet)</li>\n	<li>Bonus rounds of &quot\;blackout buy-in&quot\; for $5 each</li>\n	<li>Summer themed daubers for $5 each</li>\n</ul>\n\n<p>Every game purchased provides 1 day of care for a pet in need plus more so&nbsp\;<em><strong><span style="color:rgb(128\, 177\, 64)">YOU are a hero&nbsp\;</span></strong></em>to a homeless pet just by participating in a game of Bingo!&nbsp\;</p>\n
LOCATION:ARL Main\; Auditorium 5452 NE 22nd St. Des Moines\, IA 50313
UID:e.2655.3803
SEQUENCE:3
DTSTAMP:20260423T152101Z
URL:https://members.wdmchamber.org/events/details/beach-bingo-3803
END:VEVENT

END:VCALENDAR
