BEGIN:VCALENDAR
VERSION:2.0
PRODID:-//ChamberMaster//Event Calendar 2.0//EN
METHOD:PUBLISH
X-PUBLISHED-TTL:P3D
REFRESH-INTERVAL:P3D
CALSCALE:GREGORIAN
BEGIN:VEVENT
DTSTART:20250101T023000Z
DTEND:20250101T063000Z
X-MICROSOFT-CDO-ALLDAYEVENT:FALSE
SUMMARY:Birdchild
DESCRIPTION:From Des Moines Iowa\, Birdchild is the Midwest's premier variety cover band playing a blend of synthpop from the 80's\, 90's and today. With their unique twist on contemporary hits\, they transport audiences back in time to the neon-soaked\, nostalgia-filled era of the 1980s\, all while keeping the dance floor pumping with infectious energy.
X-ALT-DESC;FMTTYPE=text/html:<pre style="text-align:justify">\n<span style="font-size:12px"><code>From Des Moines Iowa\, Birdchild is the Midwest&#39\;s premier variety cover band playing a blend of synthpop from the 80&#39\;s\, 90&#39\;s and today. With their unique twist on contemporary hits\, they transport audiences back in time to the neon-soaked\, nostalgia-filled era of the 1980s\, all while keeping the dance floor pumping with infectious energy.</code></span></pre>\n
LOCATION:Prairie Meadows Casino & Racetrack 1 Prairie Meadows Dr\, Altoona\, IA 50009
UID:e.2655.4196
SEQUENCE:3
DTSTAMP:20260422T102739Z
URL:https://members.wdmchamber.org/events/details/birdchild-4196
END:VEVENT

END:VCALENDAR
