BEGIN:VCALENDAR
VERSION:2.0
PRODID:-//ChamberMaster//Event Calendar 2.0//EN
METHOD:PUBLISH
X-PUBLISHED-TTL:P3D
REFRESH-INTERVAL:P3D
CALSCALE:GREGORIAN
BEGIN:VEVENT
DTSTART:20200216T203000Z
DTEND:20200216T213000Z
X-MICROSOFT-CDO-ALLDAYEVENT:FALSE
SUMMARY:Buxton\, A Black Utopia in Iowa?
DESCRIPTION:Buxton was a small\, unincorporated coal mining town bordering Mahaska and Monroe counties\, was unusual for the 1900s in that African American and white residents lived and worked equally\, side by side. With as many as 10\,000 residents\, it was the largest town in America where African-Americans were in the majority.   Author Rachelle Chase listened to interviews of over 60 Buxton residents\, combed through archives and documents to write her book\, "Creating the Black Utopia of Buxton\, Iowa." Ms. Chase will share the stories she discovered and what the legacy of Buxton is today.   \n\n\n\nCopies of Ms. Chase's book will be available for purchase after this program.
X-ALT-DESC;FMTTYPE=text/html:Buxton was a small\, unincorporated coal mining town bordering Mahaska and Monroe counties\, was unusual for the 1900s in that African American and white residents lived and worked equally\, side by side. With as many as 10\,000 residents\, it was the largest town in America where African-Americans were in the majority.&nbsp\; &nbsp\;Author Rachelle Chase listened to interviews of over 60 Buxton residents\, combed through archives and documents to write her book\, &ldquo\;Creating the Black Utopia of Buxton\, Iowa.&rdquo\; Ms. Chase will share the stories she discovered and what the legacy of Buxton is today.&nbsp\; &nbsp\;<br />\n<br />\nCopies of Ms. Chase&#39\;s book will be available for purchase after this program.&nbsp\;
LOCATION:West Des Moines Public Library 4000 Mills Civic Parkway West Des Moines\, IA
UID:e.2655.940
SEQUENCE:3
DTSTAMP:20260422T085215Z
URL:https://members.wdmchamber.org/events/details/buxton-a-black-utopia-in-iowa-940
END:VEVENT

END:VCALENDAR
