BEGIN:VCALENDAR
VERSION:2.0
PRODID:-//ChamberMaster//Event Calendar 2.0//EN
METHOD:PUBLISH
X-PUBLISHED-TTL:P3D
REFRESH-INTERVAL:P3D
CALSCALE:GREGORIAN
BEGIN:VEVENT
DTSTART:20250111T013000Z
DTEND:20250112T013000Z
X-MICROSOFT-CDO-ALLDAYEVENT:FALSE
SUMMARY:CINCH World's Toughest Rodeo
DESCRIPTION:Cinch World's Toughest Rodeo returns to Des Moines on January 10-11 at Wells Fargo Arena. Don't miss this action-packed performance featuring some of the nation's most talented rodeo athletes\, livestock\, and specialty entertainers. PLUS\, don't miss the FREE preshow each night at 6:00pm where you can get down on the dirt and sit on a real-live bull\, learn to lasso\, ride a pony\, and more!
X-ALT-DESC;FMTTYPE=text/html:Cinch World&#39\;s Toughest Rodeo returns to Des Moines on January 10-11 at Wells Fargo Arena. Don&#39\;t miss this action-packed performance featuring some of the nation&#39\;s most talented rodeo athletes\, livestock\, and specialty entertainers. PLUS\, don&#39\;t miss the FREE preshow each night at 6:00pm where you can get down on the dirt and sit on a real-live bull\, learn to lasso\, ride a pony\, and more!
LOCATION:Wells Fargo Arena
UID:e.2655.4370
SEQUENCE:3
DTSTAMP:20260420T100304Z
URL:https://members.wdmchamber.org/events/details/cinch-world-s-toughest-rodeo-4370
END:VEVENT

END:VCALENDAR
