BEGIN:VCALENDAR
VERSION:2.0
PRODID:-//ChamberMaster//Event Calendar 2.0//EN
METHOD:PUBLISH
X-PUBLISHED-TTL:P3D
REFRESH-INTERVAL:P3D
CALSCALE:GREGORIAN
BEGIN:VEVENT
DTSTART:20240719T190000Z
DTEND:20240719T201500Z
X-MICROSOFT-CDO-ALLDAYEVENT:FALSE
SUMMARY:Civic Connect Presents: Meet Senator Chuck Grassley
DESCRIPTION:Join the West Des Moines Chamber of Commerce at our new government affairs committee called CIVIC CONNECT. This is a nonpartisan group of leaders and connectors who help to provide access\, information\, and proactive engagement that enhances the economic environment of West Des Moines businesses\, and community. This group will:\n\n \n\n	Educate by providing situational awareness and information to members about relevant issues.\n	Engage members with the process and introduce them to the decision makers in the process.\n	Encourage policies that are good for members of the Chamber and the City of West Des Moines.\n\n\n\nWe are looking forward to hosting Senator Chuck Grassley at the July 19th CIVIC CONNECT MEET YOUR SENATOR event from 2:00-3:15 pm at the WDM Chamber. Seating is limited. Feel free to join us for this free\, engaging discussion. There is no charge to attend this event.\n\n \nEvent Order of Show:\n\n2:00-2:15 Mix & Mingle\n\n2:15-Event Starts   Katherine Harrington President & CEO West Des Moines Chamber of Commerce welcome & event structure\, Introduces Robert Palmer   General Council & Director of Government Affairs / Iowa League of Cities\n\n2:15-Robert welcome and introduces Senator Grassley\n\n2:15-Robert & Senator Grassley Q&A\n\n2:50-Open Questions from Audience Members\n\n3:15-Event Concludes\n\n\n\nAbout Senator Grassley:\n\nGRASSLEY IS THE LONGEST SERVING U.S. SENATOR IN IOWA HISTORY\n\nHis seniority\, experience and respect earned over years of service ensures Iowans have an influential seat at the policymaking table.\n\nGrassley was first elected to the Iowa state legislature in 1958 and served there until Iowans sent him to the U.S. House of Representatives in 1974. In 1980\, Grassley was elected to the U.S. Senate\, where he's developed a reputation for bipartisanship and pragmatism. This approach to legislating consistently earns Grassley high marks as one of the Senate's most effective and collaborative lawmakers. In each post\, serving Iowans has always been Grassley's guiding light and primary objective.\n\n\n\nLearn more about Senator Chuck Grassley\n\n\nNotice of Photographic & Media Recording: When you attend a West Des Moines Chamber of Commerce event\, photography\, audio\, and video recording may occur. By attending this event\, you consent to such recording media and your image and likeness being used in connection with the advertising\, marketing\, and promotion of the West Des Moines Chamber of Commerce and/or City of West Des Moines.
X-ALT-DESC;FMTTYPE=text/html:<span style="font-size:14px\;"><span style="font-family:arial\;">Join the West Des Moines Chamber of Commerce at our new government affairs committee called CIVIC CONNECT. <span style="color:black\;">This is a nonpartisan group of leaders and connectors who help to provide access\, information\, and proactive engagement that enhances the economic environment of West Des Moines businesses\, and community. This group will:</span></span></span><br />\n&nbsp\;\n<ul>\n	<li style="color:black\;vertical-align:baseline\;"><span style="font-size:14px\;"><span style="font-family:arial\;"><strong>Educate </strong>by providing situational awareness and information to members about relevant issues.</span></span></li>\n	<li style="color:black\;vertical-align:baseline\;"><span style="font-size:14px\;"><span style="font-family:arial\;"><strong>Engage </strong>members with the process and introduce them to the decision makers in the process.</span></span></li>\n	<li style="color:black\;vertical-align:baseline\;"><span style="font-size:14px\;"><span style="font-family:arial\;"><strong>Encourage </strong>policies that are good for members of the Chamber and the City of West Des Moines.</span></span></li>\n</ul>\n<br />\n<span style="font-size:14px\;"><span style="font-family:arial\;">We are looking forward to hosting Senator Chuck Grassley at the July 19th CIVIC CONNECT MEET YOUR SENATOR event from 2:00-3:15 pm at the WDM Chamber. Seating is limited. Feel free to join us for this free\, engaging discussion. There is no charge to attend this event.</span></span><br />\n&nbsp\;\n<p><span style="font-size:14px\;"><span style="font-family:arial\;"><strong>Event Order of Show:</strong></span></span></p>\n\n<p><span style="font-size:14px\;"><span style="font-family:arial\;">2:00-2:15 Mix &amp\; Mingle<br />\n2:15-Event Starts &ndash\; Katherine Harrington President &amp\; CEO West Des Moines Chamber of Commerce welcome &amp\; event structure\, Introduces Robert Palmer &ndash\; General Council &amp\; Director of Government Affairs / Iowa League of Cities<br />\n2:15-Robert welcome and introduces Senator Grassley<br />\n2:15-Robert &amp\; Senator Grassley Q&amp\;A<br />\n2:50-Open Questions from Audience Members<br />\n3:15-Event Concludes</span></span></p>\n\n<p><br />\n<span style="font-size:14px\;"><span style="font-family:arial\;"><a href="https://www.grassley.senate.gov/news/press-kit">About Senator Grassley</a>:</span></span></p>\n\n<p><span style="font-size:14px\;"><span style="font-family:arial\;"><strong>GRASSLEY IS THE LONGEST SERVING U.S. SENATOR IN IOWA HISTORY</strong></span></span></p>\n\n<p><span style="font-size:14px\;"><span style="font-family:arial\;">His seniority\, experience and respect earned over years of service ensures Iowans have an influential seat at the policymaking table.</span></span></p>\n\n<p><span style="font-size:14px\;"><span style="font-family:arial\;">Grassley was first elected to the Iowa state legislature in 1958 and served there until Iowans sent him to the U.S. House of Representatives in 1974. In 1980\, Grassley was elected to the U.S. Senate\, where he&rsquo\;s developed a reputation for bipartisanship and pragmatism. This approach to legislating consistently earns Grassley high marks as one of the Senate&rsquo\;s most effective and collaborative lawmakers. In each post\, serving Iowans has always been Grassley&rsquo\;s guiding light and primary objective.<br />\n<br />\n<a href="https://www.grassley.senate.gov/about/biography">Learn more about Senator Chuck Grassley</a></span></span></p>\n<br />\n<span style="font-size:14px\;"><span style="font-size:10px\;"><strong style="color: rgb(102\, 102\, 102)\; font-family: Lato\, sans-serif\; font-size: 10px\;">Notice of Photographic &amp\; Media Recording</strong><span style="color: rgb(102\, 102\, 102)\;">: When you attend a West Des Moines Chamber of Commerce event\, photography\, audio\, and video recording may occur. By attending this event\, you consent to such recording media and your image and likeness being used in connection with the advertising\, marketing\, and promotion of the West Des Moines Chamber of Commerce and/or City of West Des Moines.</span></span></span>
LOCATION:West Des Moines Chamber of Commerce 650 S Prairie View Dr.\, #110 West Des Moines\, IA 50266
UID:e.2655.3844
SEQUENCE:3
DTSTAMP:20260423T135115Z
URL:https://members.wdmchamber.org/events/details/civic-connect-presents-meet-senator-chuck-grassley-3844
END:VEVENT

END:VCALENDAR
