BEGIN:VCALENDAR
VERSION:2.0
PRODID:-//ChamberMaster//Event Calendar 2.0//EN
METHOD:PUBLISH
X-PUBLISHED-TTL:P3D
REFRESH-INTERVAL:P3D
CALSCALE:GREGORIAN
BEGIN:VEVENT
DTSTART:20240416T160000Z
DTEND:20240416T200000Z
X-MICROSOFT-CDO-ALLDAYEVENT:FALSE
SUMMARY:Clarksville Station
DESCRIPTION:Clarksville Station is bringing classic country music to the Finish Line Show Lounge. Come out and listen to this free show - you will not leave disappointed! Must be 21 or older to attend.
X-ALT-DESC;FMTTYPE=text/html:<div>\n<div>\n<p>Clarksville Station is bringing classic country music to the Finish Line Show Lounge. Come out and listen to this free show - you will not leave disappointed! Must be 21 or older to attend.&nbsp\;</p>\n\n<p>&nbsp\;</p>\n</div>\n</div>\n
LOCATION:Prairie Meadows Casino\, Racetrack\, & Hotel 1 Prairie Meadows Dr\, Altoona\, IA
UID:e.2655.3689
SEQUENCE:3
DTSTAMP:20260423T184149Z
URL:https://members.wdmchamber.org/events/details/clarksville-station-04-16-2024-3689
END:VEVENT

END:VCALENDAR
