BEGIN:VCALENDAR
VERSION:2.0
PRODID:-//ChamberMaster//Event Calendar 2.0//EN
METHOD:PUBLISH
X-PUBLISHED-TTL:P3D
REFRESH-INTERVAL:P3D
CALSCALE:GREGORIAN
BEGIN:VEVENT
DTSTART:20220416T203000Z
DTEND:20220416T220000Z
X-MICROSOFT-CDO-ALLDAYEVENT:FALSE
SUMMARY:Community Easter Egg Hunt- St. Mark Lutheran Church
DESCRIPTION:Join us for a very special Easter celebration featuring family-friendly activities and an Easter egg hunt!
X-ALT-DESC;FMTTYPE=text/html:Join us for a very special Easter celebration featuring family-friendly activities and an Easter egg hunt!
LOCATION:St. Mark Lutheran Church 1105 Grand Ave West Des Moines\, IA
UID:e.2655.1541
SEQUENCE:3
DTSTAMP:20260422T035931Z
URL:https://members.wdmchamber.org/events/details/community-easter-egg-hunt-st-mark-lutheran-church-1541
END:VEVENT

END:VCALENDAR
