BEGIN:VCALENDAR
VERSION:2.0
PRODID:-//ChamberMaster//Event Calendar 2.0//EN
METHOD:PUBLISH
X-PUBLISHED-TTL:P3D
REFRESH-INTERVAL:P3D
CALSCALE:GREGORIAN
BEGIN:VEVENT
DTSTART:20240410T120000Z
DTEND:20240410T133000Z
X-MICROSOFT-CDO-ALLDAYEVENT:FALSE
SUMMARY:Connections @ Breakfast - WDM Leads Informational Session at The Cunningham
DESCRIPTION:Join us for Connections @ Breakfast\, a WDM Leads informational session hosted at The Cunningham. Breakfast will be catered by HomeGrown West Des Moines.\n\n\n\nEnjoy the opportunity to make new connections and learn more about the WDM Leads program and how you can participate.\n\n\n\nWDM Leads is the ultimate business development program designed to help your business GROW. This event is perfect for sales professionals looking to build their network and collaborate with others in the West Des Moines Chamber community. Learn more about the WDM Leads program here.\n\n\n\n\n\nNotice of Photographic & Media Recording: When you attend a West Des Moines Chamber event\, photography\, audio\, and video recording may occur. By attending this event\, you consent to such recording media and your image and likeness being used in connection with the advertising\, marketing\, and promotion of the WDM Chamber and/or City of West Des Moines.
X-ALT-DESC;FMTTYPE=text/html:Join us for Connections @ Breakfast\, a WDM Leads informational session hosted at The Cunningham. Breakfast will be catered by HomeGrown West Des Moines.<br />\n<br />\nEnjoy the opportunity to make new connections and learn more about the WDM Leads program and how you can participate.<br />\n<br />\nWDM Leads is the ultimate business development program designed to help your business GROW. This event is perfect for sales professionals looking to build their network and collaborate with others in the West Des Moines Chamber community. Learn more about the WDM Leads program <a href="https://wdmchamber.org/leads">here</a>.<br />\n<br />\n<br />\n<strong style="font-size: 10px\;">Notice of Photographic &amp\; Media Recording</strong><span style="font-size: 10px\;">: When you attend a West Des Moines Chamber event\, photography\, audio\, and video recording may occur. By attending this event\, you consent to such recording media and your image and likeness being used in connection with the advertising\, marketing\, and promotion of the WDM Chamber and/or City of West Des Moines.</span>
LOCATION:The Cunningham 950 Jordan Creek Parkway West Des Moines\, IA 50266
UID:e.2655.3668
SEQUENCE:3
DTSTAMP:20260423T203510Z
URL:https://members.wdmchamber.org/events/details/connections-breakfast-wdm-leads-informational-session-at-the-cunningham-3668
END:VEVENT

END:VCALENDAR
