BEGIN:VCALENDAR
VERSION:2.0
PRODID:-//ChamberMaster//Event Calendar 2.0//EN
METHOD:PUBLISH
X-PUBLISHED-TTL:P3D
REFRESH-INTERVAL:P3D
CALSCALE:GREGORIAN
BEGIN:VEVENT
DTSTART:20200217T233000Z
DTEND:20200218T003500Z
X-MICROSOFT-CDO-ALLDAYEVENT:FALSE
SUMMARY:Core After Baby: Free Diastasis Recti (DRA) Screen
DESCRIPTION:These events FILL QUICKLY! Space is limited to 12 women. \n\n\n\nTremendous changes occur in a woman's body during pregnancy. Recovering abdominal strength is crucial to avoid pain\, pelvic organ prolapse\, bladder leaks and improving self confidence. Feel like your abs haven't recovered from pregnancy? \n\n\n\nJoin us for this FREE seminar taught by Molly Lechtenberg\, PT\, DPT\, CMTPT and co-owner of Breathe. to learn what diastasis recti abdominis is\, get screened to see if you have it\, and go home with a few exercises!\n\n\n\nThis is event is at our BRAND NEW West Des Moines clinic. It's KID FRIENDLY and FREE!
X-ALT-DESC;FMTTYPE=text/html:<span style="color:rgb(29\, 33\, 41)\; font-family:helvetica\,arial\,sans-serif\; font-size:14px">These events FILL QUICKLY! Space is limited to 12 women. </span><br />\n<br />\n<span style="color:rgb(29\, 33\, 41)\; font-family:helvetica\,arial\,sans-serif\; font-size:14px">Tremendous changes occur in a woman&#39\;s body during pregnancy. Recovering abdominal strength is crucial to avoid pain\, pelvic organ prolapse\, bladder leaks and improving self confidence. Feel like your abs haven&rsquo\;t recovered from pregnancy? </span><br />\n<br />\n<span style="color:rgb(29\, 33\, 41)\; font-family:helvetica\,arial\,sans-serif\; font-size:14px">Join us for this FREE seminar taught by Molly Lechtenberg\, PT\, DPT\, CMTPT and co-owner of Breathe. to learn what diastasis recti abdominis is\, get screened to see if you have it\, and go home with a few exercises!</span><br />\n<br />\n<span style="color:rgb(29\, 33\, 41)\; font-family:helvetica\,arial\,sans-serif\; font-size:14px">This is event is at our BRAND NEW West Des Moines clinic. It&#39\;s KID FRIENDLY and FREE! </span>
LOCATION:Breathe. Physical Therapy West Des Moines 1300 50th St Suite 102 West Des Moines\, IA 50266
UID:e.2655.1053
SEQUENCE:3
DTSTAMP:20260420T085925Z
URL:https://members.wdmchamber.org/events/details/core-after-baby-free-diastasis-recti-dra-screen-1053
END:VEVENT

END:VCALENDAR
