BEGIN:VCALENDAR
VERSION:2.0
PRODID:-//ChamberMaster//Event Calendar 2.0//EN
METHOD:PUBLISH
X-PUBLISHED-TTL:P3D
REFRESH-INTERVAL:P3D
CALSCALE:GREGORIAN
BEGIN:VEVENT
DTSTART:20260711T220000Z
DTEND:20260712T010000Z
X-MICROSOFT-CDO-ALLDAYEVENT:FALSE
SUMMARY:Corgi Chase
DESCRIPTION:Does your corgi have what it takes to be a champion? Bring them to the Iowa Barnstormers game on July 11 to find out! At half-time\, corgis (with their owners) will take the field to race against each other to win the title of quickest corgi in the Metro! Once the chase is finished\, corgis are invited to stay and watch the rest of the game with their humans. Don't have a corgi but still want to attend and show your support? Purchase a human-only ticket using the link below and a portion of the proceeds will be donated back to the pets in our care.
X-ALT-DESC;FMTTYPE=text/html:Does your corgi have what it takes to be a champion? Bring them to the Iowa Barnstormers game on July 11 to find out! At half-time\, corgis (with their owners) will take the field to race against each other to win the title of quickest corgi in the Metro! Once the chase is finished\, corgis are invited to stay and watch the rest of the game with their humans. Don&rsquo\;t have a corgi but still want to attend and show your support? Purchase a human-only ticket using the link below and a portion of the proceeds will be donated back to the pets in our care.
LOCATION:Casey's Center 730 Third St. Des Moines\, IA 50309
UID:e.2655.5351
SEQUENCE:3
DTSTAMP:20260425T021617Z
URL:https://members.wdmchamber.org/events/details/corgi-chase-5351
END:VEVENT

END:VCALENDAR
