BEGIN:VCALENDAR
VERSION:2.0
PRODID:-//ChamberMaster//Event Calendar 2.0//EN
METHOD:PUBLISH
X-PUBLISHED-TTL:P3D
REFRESH-INTERVAL:P3D
CALSCALE:GREGORIAN
BEGIN:VEVENT
DTSTART:20240412T130000Z
DTEND:20240412T160000Z
X-MICROSOFT-CDO-ALLDAYEVENT:FALSE
SUMMARY:Craig Swalwell Band
DESCRIPTION:This popular cover band performs classic songs from Eric Clapton to Johnny Cash to Lynyrd Skynyrd. Come see the Craig Swalwell band's FREE show in the Finish Line Show Lounge. Must be 21 or older to attend.
X-ALT-DESC;FMTTYPE=text/html:<div>\n<div>\n<p>This popular cover band performs classic songs from Eric Clapton to Johnny Cash to Lynyrd Skynyrd. Come see the Craig Swalwell band&rsquo\;s FREE show in the Finish Line Show Lounge. Must be 21 or older to attend.</p>\n\n<div>&nbsp\;</div>\n\n<p>&nbsp\;</p>\n</div>\n</div>\n
LOCATION:Prairie Meadows Casino\, Racetrack\, & Hotel 1 Prairie Meadows Dr\, Altoona\, IA
UID:e.2655.3693
SEQUENCE:3
DTSTAMP:20260423T203511Z
URL:https://members.wdmchamber.org/events/details/craig-swalwell-band-04-12-2024-3693
END:VEVENT

END:VCALENDAR
