BEGIN:VCALENDAR
VERSION:2.0
PRODID:-//ChamberMaster//Event Calendar 2.0//EN
METHOD:PUBLISH
X-PUBLISHED-TTL:P3D
REFRESH-INTERVAL:P3D
CALSCALE:GREGORIAN
BEGIN:VEVENT
DTSTART:20240716T160000Z
DTEND:20240716T200000Z
X-MICROSOFT-CDO-ALLDAYEVENT:FALSE
SUMMARY:Dale Mennning & the Stardusters
DESCRIPTION:You'll need your dancing shoes when Dale Menning and the Stardusters come to the Finish Line Show Lounge. This variety band is sure to get your feet moving. Must be 21 or older to attend. Don't miss this free show!
X-ALT-DESC;FMTTYPE=text/html:You&rsquo\;ll need your dancing shoes when Dale Menning and the Stardusters come to the Finish Line Show Lounge. This variety band is sure to get your feet moving. Must be 21 or older to attend. Don&rsquo\;t miss this free show!
LOCATION:Prairie Meadows Casino\, Racetrack\, & Hotel 1 Prairie Meadows Dr\, Altoona\, IA 50009
UID:e.2655.3783
SEQUENCE:3
DTSTAMP:20260423T134901Z
URL:https://members.wdmchamber.org/events/details/dale-mennning-the-stardusters-3783
END:VEVENT

END:VCALENDAR
