BEGIN:VCALENDAR
VERSION:2.0
PRODID:-//ChamberMaster//Event Calendar 2.0//EN
METHOD:PUBLISH
X-PUBLISHED-TTL:P3D
REFRESH-INTERVAL:P3D
CALSCALE:GREGORIAN
BEGIN:VEVENT
DTSTART:20231207T173000Z
DTEND:20231207T190000Z
X-MICROSOFT-CDO-ALLDAYEVENT:FALSE
SUMMARY:December Luncheon: New Member Spotlight
DESCRIPTION:Celebrate Our New Members. Help us welcome all our new members who have joined the West Des Moines Chamber of Commerce community since December 2022. Network with this new group of community champions and learn about them as they take the stage during this fast-paced luncheon.\n\n\n\nFeatured New Members:\n\n	Above + Beyond Cancer\n	AVID Communications\n	Beeline + Blue\n	Blue Frog\n	Board Business LLC\n	BW Outdoors\n	Canine Country Club\n	Community State Bank\n	David Allen Tracy\n	Des Moines Children's Museum\n	Grei Matter LLC\n	Harlow + James\n	JP Party Rentals\n	K&G Digital 360\n	Little Dog Tech\n	Midwest Speakers Bureau\n	Morris Lare\n	Perficut Site Management\n	R Productions\n	Remodelworks\n	Restoration 1 of Des Moines\n	Sam's Club\n	Schabel Solutions\n	Summer Clark and Markjon T Real Estate Group\n	Sweet Diva\n	Transworld Business Advisors of Minnesota + Des Moines\n	Village Cooperative of West Des Moines\n	Wild Yoga Tribe\n	Zoom Room West Des Moines\n\n\n\nNotice of Photographic & Media Recording: When you attend a West Des Moines Chamber of Commerce event\, photography\, audio\, and video recording may occur. By attending this event\, you consent to such recording media and your image and likeness being used in connection with the advertising\, marketing\, and promotion of the West Des Moines Chamber of Commerce and/or City of West Des Moines.
X-ALT-DESC;FMTTYPE=text/html:<span style="font-size: 14px\;"><b>Celebrate Our New Members.</b>&nbsp\;Help us welcome all our new members who have joined the West Des Moines Chamber of Commerce community since December 2022. Network with this new group of community champions and learn about them as they take the stage during this fast-paced luncheon.<br />\n<br />\n<strong>Featured New Members:</strong></span>\n<ul>\n	<li>Above + Beyond Cancer</li>\n	<li>AVID Communications</li>\n	<li>Beeline + Blue</li>\n	<li>Blue Frog</li>\n	<li>Board Business LLC</li>\n	<li>BW Outdoors</li>\n	<li>Canine Country Club</li>\n	<li>Community State Bank</li>\n	<li>David Allen Tracy</li>\n	<li>Des Moines Children&rsquo\;s Museum</li>\n	<li>Grei Matter LLC</li>\n	<li>Harlow + James</li>\n	<li>JP Party Rentals</li>\n	<li>K&amp\;G Digital 360</li>\n	<li>Little Dog Tech</li>\n	<li>Midwest Speakers Bureau</li>\n	<li>Morris Lare</li>\n	<li>Perficut Site Management</li>\n	<li>R Productions</li>\n	<li>Remodelworks</li>\n	<li>Restoration 1 of Des Moines</li>\n	<li>Sam&#39\;s Club</li>\n	<li>Schabel Solutions</li>\n	<li>Summer Clark and Markjon T Real Estate Group</li>\n	<li>Sweet Diva</li>\n	<li>Transworld Business Advisors of Minnesota + Des Moines</li>\n	<li>Village Cooperative of West Des Moines</li>\n	<li>Wild Yoga Tribe</li>\n	<li>Zoom Room West Des Moines</li>\n</ul>\n<br />\n<strong style="color: rgb(102\, 102\, 102)\; font-family: Lato\, sans-serif\; font-size: 10px\;">Notice of Photographic &amp\; Media Recording</strong><span style="color: rgb(102\, 102\, 102)\; font-family: Lato\, sans-serif\; font-size: 10px\;">: When you attend a West Des Moines Chamber of Commerce event\, photography\, audio\, and video recording may occur. By attending this event\, you consent to such recording media and your image and likeness being used in connection with the advertising\, marketing\, and promotion of the West Des Moines Chamber of Commerce and/or City of West Des Moines.</span>
LOCATION:Embassy Club West 520 Market Street West Des Moines\, IA 50266
UID:e.2655.1764
SEQUENCE:3
DTSTAMP:20260423T223115Z
URL:https://members.wdmchamber.org/events/details/december-luncheon-new-member-spotlight-1764
END:VEVENT

END:VCALENDAR
