BEGIN:VCALENDAR
VERSION:2.0
PRODID:-//ChamberMaster//Event Calendar 2.0//EN
METHOD:PUBLISH
X-PUBLISHED-TTL:P3D
REFRESH-INTERVAL:P3D
CALSCALE:GREGORIAN
BEGIN:VEVENT
DTSTART:20260623T223000Z
DTEND:20260624T020000Z
X-MICROSOFT-CDO-ALLDAYEVENT:FALSE
SUMMARY:Dog Days of Summer at Iowa Cubs
DESCRIPTION:Bring your pooch to the game and have a dog-gone good time! Dog Days of Summer is back! Join us at Principal Park where you and your dog can watch The Iowa Cubs take on the Buffalo Bisons from seats in our pet-friendly reserved section. Once you enter the park\, you and your dog can take part in a dog parade on the field (beginning at 5:45 p.m.) and stop by the ARL booth to enter our raffle or treat your pup to dog ice cream! The game is at 6:38 p.m. (gates open one hour prior at 5:38 p.m.). Ticket: $16 Includes: -Admission for you and your dog -Dog bandana -Opportunity to participate in the dog parade on the field before the game 100% of the proceeds from each ticket sold through the ARL is donated back to pets in need.
X-ALT-DESC;FMTTYPE=text/html:Bring your pooch to the game and have a dog-gone good time! Dog Days of Summer is back! Join us at Principal Park where you and your dog can watch The Iowa Cubs take on the Buffalo Bisons from seats in our pet-friendly reserved section. Once you enter the park\, you and your dog can take part in a dog parade on the field (beginning at 5:45 p.m.) and stop by the ARL booth to enter our raffle or treat your pup to dog ice cream! The game is at 6:38 p.m. (gates open one hour prior at 5:38 p.m.). Ticket: $16 Includes: -Admission for you and your dog -Dog bandana -Opportunity to participate in the dog parade on the field before the game 100% of the proceeds from each ticket sold through the ARL is donated back to pets in need.
LOCATION:Principal Park 1 Line Drive Des Moines\, IA 50313
UID:e.2655.5352
SEQUENCE:3
DTSTAMP:20260425T021939Z
URL:https://members.wdmchamber.org/events/details/dog-days-of-summer-at-iowa-cubs-06-23-2026-5352
END:VEVENT

END:VCALENDAR
