BEGIN:VCALENDAR
VERSION:2.0
PRODID:-//ChamberMaster//Event Calendar 2.0//EN
METHOD:PUBLISH
X-PUBLISHED-TTL:P3D
REFRESH-INTERVAL:P3D
CALSCALE:GREGORIAN
BEGIN:VEVENT
DTSTART:20240730T223000Z
DTEND:20240731T020000Z
X-MICROSOFT-CDO-ALLDAYEVENT:FALSE
SUMMARY:Dog Days of Summer at Iowa Cubs
DESCRIPTION:It's game time! The Iowa Cubs will be playing the St. Paul Saints\, as you and your dog get to enjoy the game with other dogs and dog lovers from seats in our pet-friendly reserved section. The game is at 6:38 p.m. (gates open one hour prior at 5:38 p.m.).\n\nDogs attend free with paid human admission. Each dog will receive a bandana and the opportunity to be involved in the dog parade on the field before the game begins. And check out the ARL table near the dog seating section to get your dog their very own Frosty Paws.
X-ALT-DESC;FMTTYPE=text/html:<p>It&#39\;s game time! The Iowa Cubs will be playing the St. Paul Saints\,&nbsp\;as you and your dog&nbsp\;get to enjoy the game with other dogs and dog lovers from seats in our pet-friendly reserved section. The&nbsp\;game is at&nbsp\;<strong>6</strong><strong>:38&nbsp\;p.m.</strong>&nbsp\;(gates open one hour prior at 5:38 p.m.).</p>\n\n<p>Dogs attend free with paid human admission. Each dog will receive a bandana and the opportunity to be involved in the dog parade on the field before the game begins. And check out the ARL table near the dog seating section to get your dog their very own Frosty Paws.&nbsp\;</p>\n
LOCATION:Principal Park - 1 Line Drive\, Des Moines\, IA 50309
UID:e.2655.3778
SEQUENCE:3
DTSTAMP:20260423T135426Z
URL:https://members.wdmchamber.org/events/details/dog-days-of-summer-at-iowa-cubs-07-30-2024-3778
END:VEVENT

END:VCALENDAR
