BEGIN:VCALENDAR
VERSION:2.0
PRODID:-//ChamberMaster//Event Calendar 2.0//EN
METHOD:PUBLISH
X-PUBLISHED-TTL:P3D
REFRESH-INTERVAL:P3D
CALSCALE:GREGORIAN
BEGIN:VEVENT
DTSTART:20210825T160000Z
DTEND:20210825T170000Z
X-MICROSOFT-CDO-ALLDAYEVENT:FALSE
SUMMARY:Eide Bailly: Data Analytics for Nonprofits
DESCRIPTION:Course Description: To say that 2020 came with a number of surprises would be an understatement. But perhaps it is not a surprise to learn that data-driven organizations have proven to be more resilient and stronger performers during the pandemic. To be a successful leader in 2021\, embracing a data-focused approach to your decision making and strategy is key. Join our webinar to discover how to become a data-driven financial leader. We'll outline the steps to define an effective data strategy for CFOs\, accountants\, controllers and more\, and we'll identify your key data sources and provide tips to help you use your data effectively to drive results. We'll also share how data-driven organizations have outperformed their competition during the pandemic in decision-making\, reporting to stakeholders\, collaboration and overall business agility and resilience. Learning Objectives: -Define what it means to be a data-driven finance team -Outline the steps to define an effective data strategy in your organization -Discuss how to use data analytics to drive results and aid in decision making -Identify the key phases of data maturity and good reporting -Review four real-life examples of data in action
X-ALT-DESC;FMTTYPE=text/html:Course Description: To say that 2020 came with a number of surprises would be an understatement. But perhaps it is not a surprise to learn that data-driven organizations have proven to be more resilient and stronger performers during the pandemic. To be a successful leader in 2021\, embracing a data-focused approach to your decision making and strategy is key. Join our webinar to discover how to become a data-driven financial leader. We&rsquo\;ll outline the steps to define an effective data strategy for CFOs\, accountants\, controllers and more\, and we&rsquo\;ll identify your key data sources and provide tips to help you use your data effectively to drive results. We&rsquo\;ll also share how data-driven organizations have outperformed their competition during the pandemic in decision-making\, reporting to stakeholders\, collaboration and overall business agility and resilience. Learning Objectives: -Define what it means to be a data-driven finance team -Outline the steps to define an effective data strategy in your organization -Discuss how to use data analytics to drive results and aid in decision making -Identify the key phases of data maturity and good reporting -Review four real-life examples of data in action
LOCATION:Via Zoom Webinar
UID:e.2655.1369
SEQUENCE:3
DTSTAMP:20260421T031347Z
URL:https://members.wdmchamber.org/events/details/eide-bailly-data-analytics-for-nonprofits-1369
END:VEVENT

END:VCALENDAR
