BEGIN:VCALENDAR
VERSION:2.0
PRODID:-//ChamberMaster//Event Calendar 2.0//EN
METHOD:PUBLISH
X-PUBLISHED-TTL:P3D
REFRESH-INTERVAL:P3D
CALSCALE:GREGORIAN
BEGIN:VEVENT
DTSTART:20210908T160000Z
DTEND:20210908T170000Z
X-MICROSOFT-CDO-ALLDAYEVENT:FALSE
SUMMARY:Eide Bailly Inspired Perspectives | Data Analytics in Internal Audit
DESCRIPTION:Course Description: The future economy is all about data\, so it is important to make sure your data is working for you! The information that can be found from analyzed data trends can help you determine where you might be vulnerable or where risks may be hidden. Utilizing data analytics in conjunction with Internal Audit gives your organization point in time response to help mitigate your exposure to risk and improve operational efficiency. Learning Objectives: -Outline what data analytics is and why it is important. -Review the benefits of data analytics in internal audit. -Identify the impact of data analytics on your organization.
X-ALT-DESC;FMTTYPE=text/html:Course Description: The future economy is all about data\, so it is important to make sure your data is working for you! The information that can be found from analyzed data trends can help you determine where you might be vulnerable or where risks may be hidden. Utilizing data analytics in conjunction with Internal Audit gives your organization point in time response to help mitigate your exposure to risk and improve operational efficiency. Learning Objectives: -Outline what data analytics is and why it is important. -Review the benefits of data analytics in internal audit. -Identify the impact of data analytics on your organization.
LOCATION:Via Webinar
UID:e.2655.1408
SEQUENCE:3
DTSTAMP:20260421T100726Z
URL:https://members.wdmchamber.org/events/details/eide-bailly-inspired-perspectives-data-analytics-in-internal-audit-1408
END:VEVENT

END:VCALENDAR
