BEGIN:VCALENDAR
VERSION:2.0
PRODID:-//ChamberMaster//Event Calendar 2.0//EN
METHOD:PUBLISH
X-PUBLISHED-TTL:P3D
REFRESH-INTERVAL:P3D
CALSCALE:GREGORIAN
BEGIN:VEVENT
DTSTART:20240719T000000Z
DTEND:20240719T030000Z
X-MICROSOFT-CDO-ALLDAYEVENT:FALSE
SUMMARY:Face 2 Face
DESCRIPTION:Join us to sing along to the hits of Elton John and Billy Joel. Don't miss your chance to experience the music\, lyrics and showmanship that made these performers global superstars.
X-ALT-DESC;FMTTYPE=text/html:<span style="font-size:12px"><span style="color:rgb(37\, 37\, 37)\; font-family:open sans\,sans-serif">Join us to sing along to the hits of Elton John and Billy Joel. Don&rsquo\;t miss your chance to experience the music\, lyrics and showmanship that made these performers global superstars.</span></span>
LOCATION:Prairie Meadows Casino\, Hotel\, & Racetrack 1 Prairie Meadows Dr\, Altoona\, IA 50009
UID:e.2655.3795
SEQUENCE:3
DTSTAMP:20260423T134315Z
URL:https://members.wdmchamber.org/events/details/face-2-face-3795
END:VEVENT

END:VCALENDAR
