BEGIN:VCALENDAR
VERSION:2.0
PRODID:-//ChamberMaster//Event Calendar 2.0//EN
METHOD:PUBLISH
X-PUBLISHED-TTL:P3D
REFRESH-INTERVAL:P3D
CALSCALE:GREGORIAN
BEGIN:VEVENT
DTSTART:20200223T010000Z
DTEND:20200223T050000Z
X-MICROSOFT-CDO-ALLDAYEVENT:FALSE
SUMMARY:Giggle Gala
DESCRIPTION:Laugh the night away while supporting Des Moines Children's Museum. What each ticket includes: Delicious bites\, 2 drink tickets\, bidding opportunity on marvelous silent auction items\, belly laughs while enjoying Nathan Timmel's stand up comedy\, Bruce Day's music\, games\, and more! All funds raised go directly towards exhibits and programming for the children and their families that come and play.
X-ALT-DESC;FMTTYPE=text/html:Laugh the night away while supporting Des Moines Children&#39\;s Museum. What each ticket includes: Delicious bites\, 2 drink tickets\, bidding opportunity on marvelous silent auction items\, belly laughs while enjoying Nathan Timmel&rsquo\;s stand up comedy\, Bruce Day&rsquo\;s music\, games\, and more! All funds raised go directly towards exhibits and programming for the children and their families that come and play.
LOCATION:Decades Event Center 1208 Grand Ave\, West Des Moines
UID:e.2655.1066
SEQUENCE:3
DTSTAMP:20260420T123011Z
URL:https://members.wdmchamber.org/events/details/giggle-gala-1066
END:VEVENT

END:VCALENDAR
