BEGIN:VCALENDAR
VERSION:2.0
PRODID:-//ChamberMaster//Event Calendar 2.0//EN
METHOD:PUBLISH
X-PUBLISHED-TTL:P3D
REFRESH-INTERVAL:P3D
CALSCALE:GREGORIAN
BEGIN:VEVENT
DTSTART:20240404T220000Z
DTEND:20240405T003000Z
X-MICROSOFT-CDO-ALLDAYEVENT:FALSE
SUMMARY:Girls Night Out
DESCRIPTION:Join us for a Girl's Night Out at Clinical Aesthetics\n\n\n\nThursday\, April 4th\n\n\n\n5:00 to 7:30 PM\n\n\n\n5901 Westown Parkway\, Suite 220\n\nW. Des Moines\, 50266\n\n\n\nMeet our providers\, staff and partners\n\nBlonde Blur Beauty Spring makeup trends 5:15\n\nGlo2Facial demo 6:00\n\nFuzed permanent jewelry\n\nEvent specials and drawings\n\nWine and small bites\n\nBring a friend
X-ALT-DESC;FMTTYPE=text/html:<div style="text-align:center">Join us for a Girl&#39\;s Night Out at Clinical Aesthetics</div>\n\n<div style="text-align:center"><br />\nThursday\, April 4th<br />\n<br />\n5:00 to 7:30 PM<br />\n<br />\n5901 Westown Parkway\, Suite 220<br />\nW. Des Moines\, 50266<br />\n<br />\nMeet our providers\, staff and partners<br />\nBlonde Blur Beauty Spring makeup trends 5:15<br />\nGlo2Facial demo 6:00<br />\nFuzed permanent jewelry<br />\nEvent specials and drawings<br />\nWine and small bites<br />\nBring a friend</div>\n
LOCATION:Clinical Aesthetics 5901 Westown Pkwy\, Suite 220 West Des Moines 50266
UID:e.2655.3699
SEQUENCE:3
DTSTAMP:20260423T183624Z
URL:https://members.wdmchamber.org/events/details/girls-night-out-3699
END:VEVENT

END:VCALENDAR
