BEGIN:VCALENDAR
VERSION:2.0
PRODID:-//ChamberMaster//Event Calendar 2.0//EN
METHOD:PUBLISH
X-PUBLISHED-TTL:P3D
REFRESH-INTERVAL:P3D
CALSCALE:GREGORIAN
BEGIN:VEVENT
DTSTART:20240907T030000Z
DTEND:20240907T050000Z
X-MICROSOFT-CDO-ALLDAYEVENT:FALSE
SUMMARY:Grind
DESCRIPTION:Come see Grind perform for FREE in the Finish Line Show Lounge. You'll enjoy this high energy rock show. Must be 21 or older to attend.
X-ALT-DESC;FMTTYPE=text/html:Come see Grind perform for FREE in the Finish Line Show Lounge. You&rsquo\;ll enjoy this high energy rock show. Must be 21 or older to attend.
LOCATION:1 Prairie Meadows Drive\, Altoona\, Iowa
UID:e.2655.3854
SEQUENCE:3
DTSTAMP:20260420T034902Z
URL:https://members.wdmchamber.org/events/details/grind-09-06-2024-3854
END:VEVENT

END:VCALENDAR
