BEGIN:VCALENDAR
VERSION:2.0
PRODID:-//ChamberMaster//Event Calendar 2.0//EN
METHOD:PUBLISH
X-PUBLISHED-TTL:P3D
REFRESH-INTERVAL:P3D
CALSCALE:GREGORIAN
BEGIN:VEVENT
DTSTART:20210421T153000Z
DTEND:20210421T163000Z
X-MICROSOFT-CDO-ALLDAYEVENT:FALSE
SUMMARY:Inspired Perspectives | Mock Discovery Request: A Case Analysis
DESCRIPTION:Course Description: Perhaps you haven't dealt with electronic discovery for a while\, are uncomfortable with next steps and/or are just looking for an outside resource to help confirm and/or support a current or upcoming case. Eide Bailly performs a variety of fraud and forensic services including cellphone forensics\, digital forensics\, eDiscovery and forensic accounting. We help attorneys gather the necessary information to build a case for their client and we serve as an expert to counsel and your team. During this webinar\, our team will review the discovery process by answering the following questions\, all from the electronic evidence standpoint: What is fair/standard? What is over-reaching? What's normal? And\, what's missing?
X-ALT-DESC;FMTTYPE=text/html:Course Description: Perhaps you haven&rsquo\;t dealt with electronic discovery for a while\, are uncomfortable with next steps and/or are just looking for an outside resource to help confirm and/or support a current or upcoming case. Eide Bailly performs a variety of fraud and forensic services including cellphone forensics\, digital forensics\, eDiscovery and forensic accounting. We help attorneys gather the necessary information to build a case for their client and we serve as an expert to counsel and your team. During this webinar\, our team will review the discovery process by answering the following questions\, all from the electronic evidence standpoint: What is fair/standard? What is over-reaching? What&rsquo\;s normal? And\, what&rsquo\;s missing?
LOCATION:Via Zoom Webinar
UID:e.2655.1302
SEQUENCE:3
DTSTAMP:20260424T053211Z
URL:https://members.wdmchamber.org/events/details/inspired-perspectives-mock-discovery-request-a-case-analysis-1302
END:VEVENT

END:VCALENDAR
