BEGIN:VCALENDAR
VERSION:2.0
PRODID:-//ChamberMaster//Event Calendar 2.0//EN
METHOD:PUBLISH
X-PUBLISHED-TTL:P3D
REFRESH-INTERVAL:P3D
CALSCALE:GREGORIAN
BEGIN:VEVENT
DTSTART:20230521T193000Z
DTEND:20230521T203000Z
X-MICROSOFT-CDO-ALLDAYEVENT:FALSE
SUMMARY:Iowa Files: UFOs in Iowa
DESCRIPTION:UFO sightings in Iowa are not just a modern phenomenon\; the first inhabitants spoke of "Star People" and there have been more than 1\,156 reports recorded on the National UFO Reporting Center. Join Greg Anderson\, Iowa MUFON (Mutual UFO Network) State Director\, for a discussion of unidentified aerial phenomenon\, both historic and modern.\n\n\n\nThe Iowa Files is livestreamed on the West Des Moines Historical Society's Facebook page and YouTube channel\, thanks to support from the Friends Foundation of the West Des Moines Library and the EMC Insurance Foundation.
X-ALT-DESC;FMTTYPE=text/html:<span style="background-color:rgb(255\, 255\, 255)\; color:rgb(33\, 37\, 41)\; font-family:lato\,sans-serif\; font-size:18.4px">UFO sightings in Iowa are not just a modern phenomenon\; the first inhabitants spoke of &ldquo\;Star People&rdquo\; and there have been more than 1\,156 reports recorded on the National UFO Reporting Center. Join Greg Anderson\, Iowa MUFON (Mutual UFO Network) State Director\, for a discussion of unidentified aerial phenomenon\, both historic and modern.<br />\n<br />\nThe Iowa Files is livestreamed on the West Des Moines Historical Society&#39\;s Facebook page and YouTube channel\, thanks to support from the Friends Foundation of the West Des Moines Library and the EMC Insurance Foundation.&nbsp\;</span>
LOCATION:West Des Moines Public Library
UID:e.2655.1665
SEQUENCE:3
DTSTAMP:20260423T171352Z
URL:https://members.wdmchamber.org/events/details/iowa-files-ufos-in-iowa-1665
END:VEVENT

END:VCALENDAR
