BEGIN:VCALENDAR
VERSION:2.0
PRODID:-//ChamberMaster//Event Calendar 2.0//EN
METHOD:PUBLISH
X-PUBLISHED-TTL:P3D
REFRESH-INTERVAL:P3D
CALSCALE:GREGORIAN
BEGIN:VEVENT
DTSTART:20250122T133000Z
DTEND:20250122T150000Z
X-MICROSOFT-CDO-ALLDAYEVENT:FALSE
SUMMARY:Iowa Legislature Breakfast
DESCRIPTION:Welcome Back to the Iowa Legislature Breakfast presented by the West Des Moines Chamber of Commerce Civic Connect Committee\n\n \n\n\n\nJoin Us to Kick Off the 91st Iowa General Assembly\n\n \n\n\n\nThe West Des Moines Chamber of Commerce invites you to a special Welcome Back to the Iowa Legislature event on Wednesday\, January 22\, 2025\, at the iconic Iowa State Capitol Building in Des Moines. Start your morning with a meaningful opportunity to connect directly with state legislators\, fellow Chamber members\, and leaders from across the region as we gather to celebrate the opening of the 91st Iowa General Assembly.\n\n\n\nEvent Details:\n\n\n\n	\n	Cost: This event is at no charge. \n	\n	\n	Breakfast: A light breakfast will be provided in the LEGISLATIVE DINING ROOM\, ground floor of the Iowa State Capital Building. \n	\n\n\n\nImportant Information:\n\nPlease enter the Capitol through the south or west entrances and be prepared to go through security. Convenient parking is available in Lot 15 (directly east of the Capitol)\, with additional options in Lots 5\, 6\, and 7. We encourage carpooling for ease and sustainability.\n\n\n\nWhy Attend?\n\n\n\n	\n	Engage with Iowa legislators in a relaxed\, welcoming setting.\n	\n	\n	Show your support for the state's decision-makers and the legislative process.\n	\n	\n	Network with other business and community leaders invested in Iowa's future.\n	\n\n\n\nDon't miss this unique chance to be part of the legislative kickoff and share in the spirit of collaboration and community.\n\n \n\n\n\nReserve Your Spot Today!
X-ALT-DESC;FMTTYPE=text/html:<div 12pt="" background-color:="" color:="" font-feature-settings:="" font-kerning:="" font-optical-sizing:="" font-size-adjust:="" font-variation-settings:="" helvetica="" margin:="" padding:="" segoe="" style="border: 0px\; font-variant-numeric: inherit\; font-variant-east-asian: inherit\; font-variant-alternates: inherit\; font-variant-position: inherit\; font-variant-emoji: inherit\; font-stretch: inherit\; font-size: 15px\; line-height: inherit\; font-family: " ui="" vertical-align:="" web="" west="">\n<p style="margin: 0in\; direction: ltr\; font-family: Aptos\, sans-serif\; font-size: 12pt\;"><span style="font-size:14px\;"><span style="font-family:arial\;"><span style="border: 0px\; font-style: inherit\; font-variant: inherit\; font-weight: inherit\; font-stretch: inherit\; line-height: inherit\; font-optical-sizing: inherit\; font-size-adjust: inherit\; font-kerning: inherit\; font-feature-settings: inherit\; font-variation-settings: inherit\; margin: 0px\; padding: 0px\; vertical-align: baseline\; color: black !important\;"><b data-olk-copy-source="MessageBody">Welcome Back to the Iowa Legislature Breakfast p</b></span></span></span><span style="font-size:14px\;"><span style="font-family:arial\;"><span style="border: 0px\; font-style: inherit\; font-variant: inherit\; font-weight: inherit\; font-stretch: inherit\; line-height: inherit\; font-optical-sizing: inherit\; font-size-adjust: inherit\; font-kerning: inherit\; font-feature-settings: inherit\; font-variation-settings: inherit\; margin: 0px\; padding: 0px\; vertical-align: baseline\; color: black !important\;"><b>resented by the West Des Moines Chamber of Commerce Civic Connect Committee</b></span></span></span><br />\n&nbsp\;</p>\n</div>\n\n<div 12pt="" background-color:="" color:="" font-feature-settings:="" font-kerning:="" font-optical-sizing:="" font-size-adjust:="" font-variation-settings:="" helvetica="" margin:="" padding:="" segoe="" style="border: 0px\; font-variant-numeric: inherit\; font-variant-east-asian: inherit\; font-variant-alternates: inherit\; font-variant-position: inherit\; font-variant-emoji: inherit\; font-stretch: inherit\; font-size: 15px\; line-height: inherit\; font-family: " ui="" vertical-align:="" web="" west="">\n<p style="margin: 0in\; direction: ltr\; font-family: Aptos\, sans-serif\; font-size: 12pt\;"><span style="font-size:14px\;"><span style="font-family:arial\;"><span style="border: 0px\; font-style: inherit\; font-variant: inherit\; font-weight: inherit\; font-stretch: inherit\; line-height: inherit\; font-optical-sizing: inherit\; font-size-adjust: inherit\; font-kerning: inherit\; font-feature-settings: inherit\; font-variation-settings: inherit\; margin: 0px\; padding: 0px\; vertical-align: baseline\; color: black !important\;"><b>Join Us to Kick Off the 91st Iowa General Assembly</b></span></span></span><br />\n&nbsp\;</p>\n</div>\n\n<div 12pt="" background-color:="" color:="" font-feature-settings:="" font-kerning:="" font-optical-sizing:="" font-size-adjust:="" font-variation-settings:="" helvetica="" margin:="" padding:="" segoe="" style="border: 0px\; font-variant-numeric: inherit\; font-variant-east-asian: inherit\; font-variant-alternates: inherit\; font-variant-position: inherit\; font-variant-emoji: inherit\; font-stretch: inherit\; font-size: 15px\; line-height: inherit\; font-family: " ui="" vertical-align:="" web="" west="">\n<p style="margin: 0in\; direction: ltr\; font-family: Aptos\, sans-serif\; font-size: 12pt\;"><span style="font-size:14px\;"><span style="font-family:arial\;"><span style="border: 0px\; font-style: inherit\; font-variant: inherit\; font-weight: inherit\; font-stretch: inherit\; line-height: inherit\; font-optical-sizing: inherit\; font-size-adjust: inherit\; font-kerning: inherit\; font-feature-settings: inherit\; font-variation-settings: inherit\; margin: 0px\; padding: 0px\; vertical-align: baseline\; color: black !important\;">The West Des Moines Chamber of Commerce invites you to a special&nbsp\;<b>Welcome Back to the Iowa Legislature</b>&nbsp\;event on&nbsp\;<b>Wednesday\, January 22\, 2025</b>\, at the iconic&nbsp\;<b>Iowa State Capitol Building</b>&nbsp\;in Des Moines.&nbsp\;</span></span></span><span style="font-size:14px\;"><span style="font-family:arial\;"><span style="border: 0px\; font-style: inherit\; font-variant: inherit\; font-weight: inherit\; font-stretch: inherit\; line-height: inherit\; font-optical-sizing: inherit\; font-size-adjust: inherit\; font-kerning: inherit\; font-feature-settings: inherit\; font-variation-settings: inherit\; margin: 0px\; padding: 0px\; vertical-align: baseline\; color: black !important\;">Start your morning with a meaningful opportunity to connect directly with state legislators\, fellow Chamber members\, and leaders from across the region as we gather to celebrate the opening of the&nbsp\;<b>91st Iowa General Assembly</b>.</span><br />\n<br />\nEvent Details:</span></span></p>\n</div>\n\n<ul background-color:="" direction:="" font-size:="" helvetica="" margin-bottom:="" segoe="" style="color: rgb(36\, 36\, 36)\; font-family: " ui="" web="" west="">\n	<li style="font-family: Aptos\, sans-serif\; font-size: 12pt\; color: black !important\; direction: ltr\; margin: 0in\;">\n	<p style="border: 0px\; font: inherit\; margin: 0px\; padding: 0px\; vertical-align: baseline\; color: inherit\;"><span style="font-size:14px\;"><span style="font-family:arial\;"><b>Cost:</b>&nbsp\;This event is at no charge.&nbsp\;</span></span></p>\n	</li>\n	<li style="font-family: Aptos\, sans-serif\; font-size: 12pt\; color: black !important\; direction: ltr\; margin: 0in\;">\n	<p><span style="font-size:14px\;"><span style="font-family:arial\;"><b>Breakfast:</b>&nbsp\;A light breakfast will be provided in the LEGISLATIVE DINING ROOM\, ground floor of the Iowa State Capital Building.&nbsp\;</span></span></p>\n	</li>\n</ul>\n\n<div 12pt="" background-color:="" color:="" font-feature-settings:="" font-kerning:="" font-optical-sizing:="" font-size-adjust:="" font-variation-settings:="" helvetica="" margin:="" padding:="" segoe="" style="border: 0px\; font-variant-numeric: inherit\; font-variant-east-asian: inherit\; font-variant-alternates: inherit\; font-variant-position: inherit\; font-variant-emoji: inherit\; font-stretch: inherit\; font-size: 15px\; line-height: inherit\; font-family: " ui="" vertical-align:="" web="" west="">\n<p style="margin: 0in\; direction: ltr\; font-family: Aptos\, sans-serif\; font-size: 12pt\;"><span style="font-size:14px\;"><span style="font-family:arial\;"><span style="border: 0px\; font-style: inherit\; font-variant: inherit\; font-weight: inherit\; font-stretch: inherit\; line-height: inherit\; font-optical-sizing: inherit\; font-size-adjust: inherit\; font-kerning: inherit\; font-feature-settings: inherit\; font-variation-settings: inherit\; margin: 0px\; padding: 0px\; vertical-align: baseline\; color: black !important\;"><b>Important Information:</b><br />\nPlease enter the Capitol through the&nbsp\;<b>south or west entrances</b>&nbsp\;and be prepared to go through security. Convenient parking is available in&nbsp\;<b>Lot 15 (directly east of the Capitol)</b>\, with additional options in&nbsp\;<b>Lots 5\, 6\, and 7</b>. We encourage carpooling for ease and sustainability.</span></span></span></p>\n</div>\n\n<div 12pt="" background-color:="" color:="" font-feature-settings:="" font-kerning:="" font-optical-sizing:="" font-size-adjust:="" font-variation-settings:="" helvetica="" margin:="" padding:="" segoe="" style="border: 0px\; font-variant-numeric: inherit\; font-variant-east-asian: inherit\; font-variant-alternates: inherit\; font-variant-position: inherit\; font-variant-emoji: inherit\; font-stretch: inherit\; font-size: 15px\; line-height: inherit\; font-family: " ui="" vertical-align:="" web="" west="">\n<p style="margin: 0in\; direction: ltr\; font-family: Aptos\, sans-serif\; font-size: 12pt\;"><span style="font-size:14px\;"><span style="font-family:arial\;"><span style="border: 0px\; font-style: inherit\; font-variant: inherit\; font-weight: inherit\; font-stretch: inherit\; line-height: inherit\; font-optical-sizing: inherit\; font-size-adjust: inherit\; font-kerning: inherit\; font-feature-settings: inherit\; font-variation-settings: inherit\; margin: 0px\; padding: 0px\; vertical-align: baseline\; color: black !important\;"><b>Why Attend?</b></span></span></span></p>\n</div>\n\n<ul background-color:="" direction:="" font-size:="" helvetica="" margin-bottom:="" segoe="" style="color: rgb(36\, 36\, 36)\; font-family: " ui="" web="" west="">\n	<li style="font-family: Aptos\, sans-serif\; font-size: 12pt\; color: black !important\; direction: ltr\; margin: 0in\;">\n	<p><span style="font-size:14px\;"><span style="font-family:arial\;">Engage with Iowa legislators in a relaxed\, welcoming setting.</span></span></p>\n	</li>\n	<li style="font-family: Aptos\, sans-serif\; font-size: 12pt\; color: black !important\; direction: ltr\; margin: 0in\;">\n	<p><span style="font-size:14px\;"><span style="font-family:arial\;">Show your support for the state&rsquo\;s decision-makers and the legislative process.</span></span></p>\n	</li>\n	<li style="font-family: Aptos\, sans-serif\; font-size: 12pt\; color: black !important\; direction: ltr\; margin: 0in\;">\n	<p><span style="font-size:14px\;"><span style="font-family:arial\;">Network with other business and community leaders invested in Iowa&#39\;s future.</span></span></p>\n	</li>\n</ul>\n\n<div 12pt="" background-color:="" color:="" font-feature-settings:="" font-kerning:="" font-optical-sizing:="" font-size-adjust:="" font-variation-settings:="" helvetica="" margin:="" padding:="" segoe="" style="border: 0px\; font-variant-numeric: inherit\; font-variant-east-asian: inherit\; font-variant-alternates: inherit\; font-variant-position: inherit\; font-variant-emoji: inherit\; font-stretch: inherit\; font-size: 15px\; line-height: inherit\; font-family: " ui="" vertical-align:="" web="" west="">\n<p style="margin: 0in\; direction: ltr\; font-family: Aptos\, sans-serif\; font-size: 12pt\;"><span style="font-size:14px\;"><span style="font-family:arial\;"><span style="border: 0px\; font-style: inherit\; font-variant: inherit\; font-weight: inherit\; font-stretch: inherit\; line-height: inherit\; font-optical-sizing: inherit\; font-size-adjust: inherit\; font-kerning: inherit\; font-feature-settings: inherit\; font-variation-settings: inherit\; margin: 0px\; padding: 0px\; vertical-align: baseline\; color: black !important\;">Don&rsquo\;t miss this unique chance to be part of the legislative kickoff and share in the spirit of collaboration and community.</span></span></span><br />\n&nbsp\;</p>\n</div>\n\n<div 12pt="" background-color:="" color:="" font-feature-settings:="" font-kerning:="" font-optical-sizing:="" font-size-adjust:="" font-variation-settings:="" helvetica="" margin:="" padding:="" segoe="" style="border: 0px\; font-variant-numeric: inherit\; font-variant-east-asian: inherit\; font-variant-alternates: inherit\; font-variant-position: inherit\; font-variant-emoji: inherit\; font-stretch: inherit\; font-size: 15px\; line-height: inherit\; font-family: " ui="" vertical-align:="" web="" west="">\n<p style="margin: 0in\; direction: ltr\; font-family: Aptos\, sans-serif\; font-size: 12pt\;"><span style="font-size:14px\;"><span style="font-family:arial\;"><span style="border: 0px\; font-style: inherit\; font-variant: inherit\; font-weight: inherit\; font-stretch: inherit\; line-height: inherit\; font-optical-sizing: inherit\; font-size-adjust: inherit\; font-kerning: inherit\; font-feature-settings: inherit\; font-variation-settings: inherit\; margin: 0px\; padding: 0px\; vertical-align: baseline\; color: black !important\;"><b>Reserve Your Spot Today!</b></span></span></span></p>\n</div>\n
LOCATION:Legislative Dining Room\, Iowa State Capitol Building\, Ground Floor (labeled by a room sign)
UID:e.2655.4385
SEQUENCE:3
DTSTAMP:20260422T103129Z
URL:https://members.wdmchamber.org/events/details/iowa-legislature-breakfast-4385
END:VEVENT

END:VCALENDAR
