BEGIN:VCALENDAR
VERSION:2.0
PRODID:-//ChamberMaster//Event Calendar 2.0//EN
METHOD:PUBLISH
X-PUBLISHED-TTL:P3D
REFRESH-INTERVAL:P3D
CALSCALE:GREGORIAN
BEGIN:VEVENT
DTSTART:20220808T200000Z
DTEND:20220808T230000Z
X-MICROSOFT-CDO-ALLDAYEVENT:FALSE
SUMMARY:Iowa Specialty Surgeon Ribbon Cutting
DESCRIPTION:Please join us at the ribbon cutting for Iowa Specialty Surgeons' NEW location in West Des Moines! Enjoy some light food and refreshments\, networking and hearing a few words from their team. The cut will follow announcements that begin at 3:15pm.\n\n \n\nPlease feel free to reach out with any questions. Thank you for your support and we look forward to seeing you Monday\, August 8th!
X-ALT-DESC;FMTTYPE=text/html:<em><span style="color:#333333\;"><span style="font-family:arial\,sans-serif\;"><span style="font-size:10.0pt\;">Please join us at the ribbon cutting for&nbsp\;<a href="https://www.iowaspecialtysurgeons.com/"><span style="font-style:normal\;">Iowa Specialty Surgeons</span></a>&rsquo\; NEW location in West Des Moines! Enjoy some light food and refreshments\, networking and hearing a few words from their team. The cut will follow announcements that begin at 3:15pm.</span></span></span></em><br />\n<span style="color:#333333\;"><span style="font-family:arial\,sans-serif\;"><span style="font-size:10.0pt\;">&nbsp\;<br />\n<em><span style="font-family:arial\,sans-serif\;">Please feel free to reach out with any questions. Thank you for your support and we look forward to seeing you Monday\, August 8th!</span></em></span></span></span>
LOCATION:5901 WESTOWN PARKWAY\; SUITE 110\; WDM IA 50266
UID:e.2655.1634
SEQUENCE:3
DTSTAMP:20260425T111838Z
URL:https://members.wdmchamber.org/events/details/iowa-specialty-surgeon-ribbon-cutting-1634
END:VEVENT

END:VCALENDAR
