BEGIN:VCALENDAR
VERSION:2.0
PRODID:-//ChamberMaster//Event Calendar 2.0//EN
METHOD:PUBLISH
X-PUBLISHED-TTL:P3D
REFRESH-INTERVAL:P3D
CALSCALE:GREGORIAN
BEGIN:VEVENT
DTSTART:20240111T173000Z
DTEND:20240111T190000Z
X-MICROSOFT-CDO-ALLDAYEVENT:FALSE
SUMMARY:January 2024 Luncheon: INSPIRE 2024
DESCRIPTION:The West Des Moines Chamber is celebrating its 100-Year Anniversary and are exited to bring you the first major event for the year: INSPIRE 2024. Speakers at this event represent the region's top game changers and thought leaders who will help motivate\, inspire\, and inform attendees for the next century. We have identified five key areas for topic leaders to spotlight: Sustainability\, Innovation\, Healthcare\, Finance\, and Inclusive Leadership. \n\n\n\nThe West Des Moines Chamber's programming is focused around four pillars that include PROGRESS\, POSITIVITY\, POSSIBILITIES\, and PERSEVERANCE and we hope you will join us for an incredible event that will be remembered for years to come. \n\n\n\n\n\nExpert Speakers:\n\n\n\nHealthcare\n\nDr. Angela Franklin - President & CEO | Des Moines University\n\n\n\nInclusive Leadership\n\nClaudia Schabel - President & CEO | Schabel Solutions\n\n\n\nSustainability\n\nHannah Inman - CEO | Great Outdoors Foundation\n\n\n\nInnovation\n\nDan Keough - Chairman & CEO | Holmes Murphy\n\n\n\nFinance\n\nZaydoon Munir - Founder & Global Operating Executive | RainyDayPal\n\n\n\n\n\nNotice of Photographic & Media Recording: When you attend a West Des Moines Chamber of Commerce event\, photography\, audio\, and video recording may occur. By attending this event\, you consent to such recording media and your image and likeness being used in connection with the advertising\, marketing\, and promotion of the West Des Moines Chamber of Commerce and/or City of West Des Moines.
X-ALT-DESC;FMTTYPE=text/html:<span style="font-size:11.0pt\;">The </span><span style="font-size:11.0pt\;">West Des Moines Chamber is celebrating its 100-Year Anniversary and are exited to bring you the first major event for the year: INSPIRE 2024. Speakers at this event represent the region&rsquo\;s top game changers and thought leaders who will help motivate\, inspire\, and inform attendees for the next century. We have identified five key areas for topic leaders to spotlight: <strong>Sustainability\, Innovation\, Healthcare\, Finance\, and Inclusive Leadership. </strong><br />\n<br />\nThe West Des Moines Chamber&rsquo\;s programming is focused around four pillars that include PROGRESS\, POSITIVITY\, POSSIBILITIES\, and PERSEVERANCE and we hope you will join us for an incredible event that will be remembered for years to come. </span><br />\n<br />\n<br />\n<u><strong>Expert Speakers:</strong></u><br />\n<br />\n<span style="color:#0000CD\;"><strong>Healthcare</strong></span><br />\nDr. Angela Franklin - President &amp\; CEO | <a href="https://www.dmu.edu/">Des Moines University</a><br />\n<br />\n<span style="color:#0000CD\;"><strong>Inclusive Leadership</strong></span><br />\nClaudia Schabel - President &amp\; CEO | <a href="https://www.schabelsolutions.com/">Schabel Solutions</a><br />\n<br />\n<span style="color:#0000CD\;"><strong>Sustainability</strong></span><br />\nHannah Inman - CEO | <a href="https://greatoutdoorsfoundation.org/">Great Outdoors Foundation</a><br />\n<br />\n<span style="color:#0000CD\;"><strong>Innovation</strong></span><br />\nDan Keough - Chairman &amp\; CEO | <a href="https://www.holmesmurphy.com/">Holmes Murphy</a><br />\n<br />\n<span style="color:#0000CD\;"><strong>Finance</strong></span><br />\nZaydoon Munir - Founder &amp\; Global Operating Executive | <a href="https://rainydaypal.com/">RainyDayPal</a><br />\n<br />\n<br />\n<strong style="color: rgb(102\, 102\, 102)\; font-family: Lato\, sans-serif\; font-size: 10px\;">Notice of Photographic &amp\; Media Recording</strong><span style="color: rgb(102\, 102\, 102)\; font-family: Lato\, sans-serif\; font-size: 10px\;">: When you attend a West Des Moines Chamber of Commerce event\, photography\, audio\, and video recording may occur. By attending this event\, you consent to such recording media and your image and likeness being used in connection with the advertising\, marketing\, and promotion of the West Des Moines Chamber of Commerce and/or City of West Des Moines.</span>
LOCATION:West Des Moines Marriott 1250 Jordan Creek Pkwy West Des Moines\, IA 50266
UID:e.2655.3536
SEQUENCE:3
DTSTAMP:20260423T203244Z
URL:https://members.wdmchamber.org/events/details/january-2024-luncheon-inspire-2024-3536
END:VEVENT

END:VCALENDAR
