BEGIN:VCALENDAR
VERSION:2.0
PRODID:-//ChamberMaster//Event Calendar 2.0//EN
METHOD:PUBLISH
X-PUBLISHED-TTL:P3D
REFRESH-INTERVAL:P3D
CALSCALE:GREGORIAN
BEGIN:VEVENT
DTSTART:20250108T160000Z
DTEND:20250108T180000Z
X-MICROSOFT-CDO-ALLDAYEVENT:FALSE
SUMMARY:January Corporate Games Webinar
DESCRIPTION:The 2025 Iowa Games is hosting a Corporate Games informative webinar! To join\, click here
X-ALT-DESC;FMTTYPE=text/html:The 2025 Iowa Games is hosting a Corporate Games informative webinar! To join\, click <a href="https://us02web.zoom.us/webinar/register/WN_n1n9mZ_RS5WWt8NTObHIxw">here</a>
LOCATION:
UID:e.2655.4177
SEQUENCE:3
DTSTAMP:20260420T095349Z
URL:https://members.wdmchamber.org/events/details/january-corporate-games-webinar-4177
END:VEVENT

END:VCALENDAR
