BEGIN:VCALENDAR
VERSION:2.0
PRODID:-//ChamberMaster//Event Calendar 2.0//EN
METHOD:PUBLISH
X-PUBLISHED-TTL:P3D
REFRESH-INTERVAL:P3D
CALSCALE:GREGORIAN
BEGIN:VEVENT
DTSTART:20231021T220000Z
DTEND:20231022T010000Z
X-MICROSOFT-CDO-ALLDAYEVENT:FALSE
SUMMARY:Jeff Banks Band & General Lee Food Truck at the Merc
DESCRIPTION:Join us for an evening of music and delicious food!
X-ALT-DESC;FMTTYPE=text/html:Join us for an evening of music and delicious food!
LOCATION:Middlebrook Mercantile 4125 Cumming Avenue Cumming\, Iowa 50061
UID:e.2655.3494
SEQUENCE:3
DTSTAMP:20260423T104009Z
URL:https://members.wdmchamber.org/events/details/jeff-banks-band-general-lee-food-truck-at-the-merc-3494
END:VEVENT

END:VCALENDAR
