BEGIN:VCALENDAR
VERSION:2.0
PRODID:-//ChamberMaster//Event Calendar 2.0//EN
METHOD:PUBLISH
X-PUBLISHED-TTL:P3D
REFRESH-INTERVAL:P3D
CALSCALE:GREGORIAN
BEGIN:VEVENT
DTSTART:20240723T160000Z
DTEND:20240723T200000Z
X-MICROSOFT-CDO-ALLDAYEVENT:FALSE
SUMMARY:Jerry Beauchamp
DESCRIPTION:Free show! Join the Jerry Beauchamp Band for an afternoon of variety and classic country hits. Find them in the Finish Line Show Lounge. Must be 21 or older to attend.
X-ALT-DESC;FMTTYPE=text/html:Free show! Join the Jerry Beauchamp Band for an afternoon of variety and classic country hits. Find them in the Finish Line Show Lounge. Must be 21 or older to attend.
LOCATION:Prairie Meadows Casino\, Hotel\, & Racetrack 1 Prairie Meadows Dr\, Altoona\, IA 50009
UID:e.2655.3784
SEQUENCE:3
DTSTAMP:20260423T152621Z
URL:https://members.wdmchamber.org/events/details/jerry-beauchamp-07-23-2024-3784
END:VEVENT

END:VCALENDAR
