BEGIN:VCALENDAR
VERSION:2.0
PRODID:-//ChamberMaster//Event Calendar 2.0//EN
METHOD:PUBLISH
X-PUBLISHED-TTL:P3D
REFRESH-INTERVAL:P3D
CALSCALE:GREGORIAN
BEGIN:VEVENT
DTSTART:20240903T160000Z
DTEND:20240903T200000Z
X-MICROSOFT-CDO-ALLDAYEVENT:FALSE
SUMMARY:Jerry Beauchamp Band
DESCRIPTION:Free show! Join the Jerry Beauchamp Band for an afternoon of variety and classic country hits. Find them in the Finish Line Show Lounge. Must be 21 or older to attend.
X-ALT-DESC;FMTTYPE=text/html:Free show! Join the Jerry Beauchamp Band for an afternoon of variety and classic country hits. Find them in the Finish Line Show Lounge. Must be 21 or older to attend.
LOCATION:1 Prairie Meadows Drive\, Altoona\, Iowa
UID:e.2655.3850
SEQUENCE:3
DTSTAMP:20260425T205230Z
URL:https://members.wdmchamber.org/events/details/jerry-beauchamp-band-09-03-2024-3850
END:VEVENT

END:VCALENDAR
