BEGIN:VCALENDAR
VERSION:2.0
PRODID:-//ChamberMaster//Event Calendar 2.0//EN
METHOD:PUBLISH
X-PUBLISHED-TTL:P3D
REFRESH-INTERVAL:P3D
CALSCALE:GREGORIAN
BEGIN:VEVENT
DTSTART:20250612T163000Z
DTEND:20250612T180000Z
X-MICROSOFT-CDO-ALLDAYEVENT:FALSE
SUMMARY:June 2025 Luncheon: Marketing Trends
DESCRIPTION:Ready to Supercharge Your Marketing in 2025 and Beyond?\n\nJoin us for the WDM Chamber Luncheon: "What's Hot & What's Next: Marketing Trends That Drive Growth"   happening June 12 at Glen Oaks Country Club.\n\nWe're bringing the brightest minds in marketing to the stage for a TED Talk-style power hour of ideas\, innovation\, and inspiration. In just 10 minutes each\, our expert panel will drop their most powerful insights on:\n\n\n	\n	Digital Domination\n	\n	\n	The Rise of AI in Marketing\n	\n	\n	Event Marketing That Actually Converts\n	\n	\n	Earned Media Magic\n	\n	\n	Influencer Strategies That Drive ROI\n	\n\n\nFeatured Speakers:\n\n\n	\n	Sarah Borchers   Global Marketing Leader   Enterprise / ITA Group\n	\n	\n	Josh Fleming   Vice President\, Marketing Director / Bank Iowa\n	\n	\n	Tar Macias   President / Hola America News\n	\n	\n	Erin Rollenhagen   Founder & CEO / People-Friendly Tech\n	\n	\n	Whitney Warne   Founder & Trainer / Evoke EQ & Owner / Ivory House Photography\n	\n\n\nThis is your insider look at what's working right now   and what will shape marketing in 2025. Whether you're a business owner\, marketing leader\, entrepreneur\, or creative strategist\, you'll walk away with the tools\, trends\, and tactics to take your brand to the next level.\n\nNo fluff. Just the gold.\n\nSeats will fill fast   reserve yours today and fuel your next big marketing move.\n\n\nNotice of Photographic & Media Recording: When you attend a West Des Moines Chamber of Commerce event\, photography\, audio\, and video recording may occur. By attending this event\, you consent to such recording media and your image and likeness being used in connection with the advertising\, marketing\, and promotion of the West Des Moines Chamber of Commerce and/or City of West Des Moines.
X-ALT-DESC;FMTTYPE=text/html:<div class="x_elementToProof" data-olk-copy-source="MessageBody" style="border: 0px\; font-variant-numeric: inherit\; font-variant-east-asian: inherit\; font-variant-alternates: inherit\; font-variant-position: inherit\; font-variant-emoji: inherit\; font-stretch: inherit\; font-size: 12pt\; line-height: inherit\; font-family: Aptos\, Aptos_EmbeddedFont\, Aptos_MSFontService\, Calibri\, Helvetica\, sans-serif\, serif\, EmojiFont\; font-optical-sizing: inherit\; font-size-adjust: inherit\; font-kerning: inherit\; font-feature-settings: inherit\; font-variation-settings: inherit\; margin: 1em 0px\; padding: 0px\; vertical-align: baseline\; color: rgb(0\, 0\, 0)\;">\n<p data-end="324" data-start="107"><span style="font-size:14px\;"><span style="font-family:arial\;"><strong data-end="166" data-start="107">Ready to Supercharge Your Marketing in 2025 and Beyond?</strong><br data-end="169" data-start="166" />\nJoin us for the WDM Chamber Luncheon: <strong data-end="273" data-start="207">&quot\;What&rsquo\;s Hot &amp\; What&rsquo\;s Next: Marketing Trends That Drive Growth&quot\;</strong> &mdash\; happening <strong data-end="323" data-start="286">June 12 at Glen Oaks Country Club</strong>.</span></span></p>\n\n<p data-end="542" data-start="326"><span style="font-size:14px\;"><span style="font-family:arial\;">We&rsquo\;re bringing the brightest minds in marketing to the stage for a TED Talk-style power hour of ideas\, innovation\, and inspiration. In just 10 minutes each\, our expert panel will drop their most powerful insights on:</span></span></p>\n\n<ul data-end="705" data-start="544">\n	<li data-end="566" data-start="544">\n	<p data-end="566" data-start="546"><span style="font-size:14px\;"><span style="font-family:arial\;">Digital Domination</span></span></p>\n	</li>\n	<li data-end="598" data-start="567">\n	<p data-end="598" data-start="569"><span style="font-size:14px\;"><span style="font-family:arial\;">The Rise of AI in Marketing</span></span></p>\n	</li>\n	<li data-end="641" data-start="599">\n	<p data-end="641" data-start="601"><span style="font-size:14px\;"><span style="font-family:arial\;">Event Marketing That Actually Converts</span></span></p>\n	</li>\n	<li data-end="664" data-start="642">\n	<p data-end="664" data-start="644"><span style="font-size:14px\;"><span style="font-family:arial\;">Earned Media Magic</span></span></p>\n	</li>\n	<li data-end="705" data-start="665">\n	<p data-end="705" data-start="667"><span style="font-size:14px\;"><span style="font-family:arial\;">Influencer Strategies That Drive ROI</span></span></p>\n	</li>\n</ul>\n\n<p data-end="729" data-start="707"><span style="font-size:14px\;"><span style="font-family:arial\;">Featured Speakers:</span></span></p>\n\n<ul data-end="1049" data-start="730">\n	<li data-end="123" data-start="54">\n	<p data-end="123" data-start="56"><span style="font-size:14px\;"><span style="font-family:arial\;"><strong>Sarah Borchers</strong> &ndash\; Global Marketing Leader &mdash\; Enterprise / ITA Group</span></span></p>\n	</li>\n	<li data-end="189" data-start="124">\n	<p data-end="189" data-start="126"><span style="font-size:14px\;"><span style="font-family:arial\;"><strong>Josh Fleming</strong> &ndash\; Vice President\, Marketing Director / Bank Iowa</span></span></p>\n	</li>\n	<li data-end="236" data-start="190">\n	<p data-end="236" data-start="192"><span style="font-size:14px\;"><span style="font-family:arial\;"><strong>Tar Macias</strong> &ndash\; President / Hola America News</span></span></p>\n	</li>\n	<li data-end="296" data-start="237">\n	<p data-end="296" data-start="239"><span style="font-size:14px\;"><span style="font-family:arial\;"><strong>Erin Rollenhagen</strong> &ndash\; Founder &amp\; CEO / People-Friendly Tech</span></span></p>\n	</li>\n	<li data-end="377" data-start="297">\n	<p data-end="377" data-start="299"><span style="font-size:14px\;"><span style="font-family:arial\;"><strong>Whitney Warne</strong> &ndash\; Founder &amp\; Trainer / Evoke EQ &amp\; Owner / Ivory House Photography</span></span></p>\n	</li>\n</ul>\n\n<p data-end="1325" data-start="1051"><span style="font-size:14px\;"><span style="font-family:arial\;">This is your insider look at what&rsquo\;s working right now &mdash\; and what will shape marketing in 2025. Whether you&rsquo\;re a business owner\, marketing leader\, entrepreneur\, or creative strategist\, you&rsquo\;ll walk away with the tools\, trends\, and tactics to take your brand to the next level.</span></span></p>\n\n<p data-end="1426" data-start="1327"><span style="font-size:14px\;"><span style="font-family:arial\;"><strong data-end="1355" data-start="1327">No fluff. Just the gold.</strong></span></span></p>\n\n<p data-end="1513" data-start="1428"><span style="font-size:14px\;"><span style="font-family:arial\;"><strong data-end="1513" data-start="1428">Seats will fill fast &mdash\; reserve yours today and fuel your next big marketing move.</strong></span></span></p>\n</div>\n\n<p><strong style="color: rgb(102\, 102\, 102)\; font-family: Lato\, sans-serif\; font-size: 10px\;">Notice of Photographic &amp\; Media Recording</strong><span style="color: rgb(102\, 102\, 102)\; font-family: Lato\, sans-serif\; font-size: 10px\;">: When you attend a West Des Moines Chamber of Commerce event\, photography\, audio\, and video recording may occur. By attending this event\, you consent to such recording media and your image and likeness being used in connection with the advertising\, marketing\, and promotion of the West Des Moines Chamber of Commerce and/or City of West Des Moines.</span></p>\n
LOCATION:Glen Oaks 1401 Glen Oaks Dr\, West Des Moines\, IA 50266
UID:e.2655.3925
SEQUENCE:3
DTSTAMP:20260419T162100Z
URL:https://members.wdmchamber.org/events/details/june-2025-luncheon-marketing-trends-3925
END:VEVENT

END:VCALENDAR
