BEGIN:VCALENDAR
VERSION:2.0
PRODID:-//ChamberMaster//Event Calendar 2.0//EN
METHOD:PUBLISH
X-PUBLISHED-TTL:P3D
REFRESH-INTERVAL:P3D
CALSCALE:GREGORIAN
BEGIN:VEVENT
DTSTART:20260715T140000Z
DTEND:20260715T200000Z
X-MICROSOFT-CDO-ALLDAYEVENT:FALSE
SUMMARY:Junior Achievement Rising Women Workshop
DESCRIPTION:Join us at the Junior Achievement of Central Iowa office (6100 Grand Ave.\, Des Moines\, IA 50312) from 9:00am 3:00pm for a dynamic\, empowering experience and yes\, lunch is on us! ??? Throughout the day\, participants will take part in engaging activities\, interactive lessons\, and meaningful conversations centered on skills that matter now and for the future. Topics include leadership development\, financial literacy\, career readiness\, goal-setting\, and communication and collaboration\, all with practical takeaways you can apply right away. This special event is open to 50 female participants\, ages 14 21 (as of July 1\, 2026). Best of all\, there is no cost to attend!
X-ALT-DESC;FMTTYPE=text/html:Join us at the Junior Achievement of Central Iowa office (6100 Grand Ave.\, Des Moines\, IA 50312) from 9:00am&ndash\;3:00pm for a dynamic\, empowering experience and yes\, lunch is on us! ??? Throughout the day\, participants will take part in engaging activities\, interactive lessons\, and meaningful conversations centered on skills that matter now and for the future. Topics include leadership development\, financial literacy\, career readiness\, goal-setting\, and communication and collaboration\, all with practical takeaways you can apply right away. This special event is open to 50 female participants\, ages 14&ndash\;21 (as of July 1\, 2026). Best of all\, there is no cost to attend!
LOCATION:6100 Grand Ave Des Moines\, IA 50312
UID:e.2655.5296
SEQUENCE:3
DTSTAMP:20260423T134951Z
URL:https://members.wdmchamber.org/events/details/junior-achievement-rising-women-workshop-5296
END:VEVENT

END:VCALENDAR
