BEGIN:VCALENDAR
VERSION:2.0
PRODID:-//ChamberMaster//Event Calendar 2.0//EN
METHOD:PUBLISH
X-PUBLISHED-TTL:P3D
REFRESH-INTERVAL:P3D
CALSCALE:GREGORIAN
BEGIN:VEVENT
DTSTART:20240430T160000Z
DTEND:20240430T200000Z
X-MICROSOFT-CDO-ALLDAYEVENT:FALSE
SUMMARY:Ken Frette & the Country Classics
DESCRIPTION:Country music fans will not want to miss this show! Join Ken Frette and his band in the Finish Line Show Lounge as they play your favorite country songs from the past. Must be 21 or older to attend. Free show!
X-ALT-DESC;FMTTYPE=text/html:<div>\n<div>\n<p>Country music fans will not want to miss this show! Join Ken Frette and his band in the Finish Line Show Lounge as they play your favorite country songs from the past. Must be 21 or older to attend. Free show!</p>\n\n<div>&nbsp\;</div>\n\n<p>&nbsp\;</p>\n</div>\n</div>\n
LOCATION:Prairie Meadows Casino\, Racetrack\, & Hotel 1 Prairie Meadows Dr\, Altoona\, IA
UID:e.2655.3691
SEQUENCE:3
DTSTAMP:20260423T203331Z
URL:https://members.wdmchamber.org/events/details/ken-frette-the-country-classics-3691
END:VEVENT

END:VCALENDAR
