BEGIN:VCALENDAR
VERSION:2.0
PRODID:-//ChamberMaster//Event Calendar 2.0//EN
METHOD:PUBLISH
X-PUBLISHED-TTL:P3D
REFRESH-INTERVAL:P3D
CALSCALE:GREGORIAN
BEGIN:VEVENT
DTSTART:20260607T150000Z
DTEND:20260607T170000Z
X-MICROSOFT-CDO-ALLDAYEVENT:FALSE
SUMMARY:Kitten Shower
DESCRIPTION:We are expecting (kittens)! Join us for a morning full of kittens! Help us prepare for kitten season by providing life saving supplies while also meeting some of the kittens you'll be helping. Our kitten nursery is expecting to take in lots of babies\, but especially teeny kittens who need A LOT of care. With your help\, we can provide all the necessary supplies\, support\, and love they need until they find their fur-ever home. Happenings: Kitten Nursery tour & bottle-feeding demonstration Tours will take place at 10:30\, 11:00\, and 11:30 a.m. Play time with litters of adorable kittens Fun "baby" shower games to win entries for our raffle baskets A cat toy making activity The opportunity to learn more about ARL programs FREE snacks & a cash bar This is a FREE event\, though we ask that you RSVP via the ticket link.
X-ALT-DESC;FMTTYPE=text/html:We are expecting (kittens)! Join us for a morning full of kittens! Help us prepare for kitten season by providing life saving supplies while also meeting some of the kittens you&rsquo\;ll be helping. Our kitten nursery is expecting to take in lots of babies\, but especially teeny kittens who need A LOT of care. With your help\, we can provide all the necessary supplies\, support\, and love they need until they find their fur-ever home. Happenings: Kitten Nursery tour &amp\; bottle-feeding demonstration Tours will take place at 10:30\, 11:00\, and 11:30 a.m. Play time with litters of adorable kittens Fun &ldquo\;baby&rdquo\; shower games to win entries for our raffle baskets A cat toy making activity The opportunity to learn more about ARL programs FREE snacks &amp\; a cash bar This is a FREE event\, though we ask that you RSVP via the ticket link.
LOCATION:ARL Main Auditorium 5452 NE 22nd St Des Moines\, IA 50313
UID:e.2655.5344
SEQUENCE:3
DTSTAMP:20260423T115330Z
URL:https://members.wdmchamber.org/events/details/kitten-shower-06-07-2026-5344
END:VEVENT

END:VCALENDAR
