BEGIN:VCALENDAR
VERSION:2.0
PRODID:-//ChamberMaster//Event Calendar 2.0//EN
METHOD:PUBLISH
X-PUBLISHED-TTL:P3D
REFRESH-INTERVAL:P3D
CALSCALE:GREGORIAN
BEGIN:VEVENT
DTSTART:20250110T000000Z
DTEND:20250110T010000Z
X-MICROSOFT-CDO-ALLDAYEVENT:FALSE
SUMMARY:Koch & Carlisle Plastic Surgery presents: A Solution to your New Year's Resolution
DESCRIPTION:MARK YOUR CALENDAR for our limited-entry event!\n\n\n\nIf you are looking for a way to kickstart your health journey\, struggling to shed unwanted weight\, or are interested in learning more about your optimal health - this event is for you.\n\n\n\n* Thursday\, Jan. 9 | 6:00 - 7:00 p.m.\n\n* Learn about weight loss medications and hormone therapy from Dr. Katie \n\n* Sips and snacks provided.\n\n+ Limited to 30 attendees\, ensuring an intimate and personalized experience.\n\n\n\n-  RSVP to secure your spot and be entered into a special giveaway: ask@kochmd.com
X-ALT-DESC;FMTTYPE=text/html:MARK YOUR CALENDAR for our limited-entry event!<br />\n<br />\nIf you are looking for a way to kickstart your health journey\, struggling to shed unwanted weight\, or are interested in learning more about your optimal health - this event is for you.<br />\n<br />\n<u><strong>* Thursday\, Jan. 9 | 6:00 - 7:00 p.m.</strong></u><br />\n* Learn about weight loss medications and hormone therapy from Dr. Katie&nbsp\;<br />\n* Sips and snacks provided.<br />\n<em>+ Limited to 30 attendees\, ensuring an intimate and personalized experience.</em><br />\n<br />\n-&gt\; <strong>RSVP</strong> to secure your spot and be entered into a special giveaway:<strong> ask@kochmd.com&nbsp\;</strong>
LOCATION:Koch & Carlisle Plastic Surgery & Spa is located at 4855 Mills Civic Parkway\, Suite 100 in West Des Moines\, Iowa.
UID:e.2655.4425
SEQUENCE:3
DTSTAMP:20260422T085857Z
URL:https://members.wdmchamber.org/events/details/koch-carlisle-plastic-surgery-presents-a-solution-to-your-new-year-s-resolution-4425
END:VEVENT

END:VCALENDAR
