BEGIN:VCALENDAR
VERSION:2.0
PRODID:-//ChamberMaster//Event Calendar 2.0//EN
METHOD:PUBLISH
X-PUBLISHED-TTL:P3D
REFRESH-INTERVAL:P3D
CALSCALE:GREGORIAN
BEGIN:VEVENT
DTSTART;VALUE=DATE:20240705
DTEND;VALUE=DATE:20240706
TRANSP:TRANSPARENT
X-MICROSOFT-CDO-ALLDAYEVENT:TRUE
SUMMARY:Life 107.1 Blood Drive with LifeServe
DESCRIPTION:"They call themselves the LifeServers...according to them\, they save the world."\n\nWhen there's a blood shortage or patient need\, who does your local hospital call? They call LifeServe Blood Center and the LifeServers. This summer\, we invite you to join the lifesaving fight to save the world through blood donation! While it may not be as action packed or anxiety inducing as fighting ghosts\, there is a constant need for blood in our communities. Some may argue that a blood shortage is just as\, if not more\, terrifying than coming face to face with Slimer\, Muncher or Gozer.\n\nSo\, what do you say\, will you answer the call and join LifeServe Blood Center and Life 107.1 on Friday\, July 5 from 11a.m. to 4:30p.m. at the Valley Community Center. To thank you for saving the world in the fight against the blood supply shortage\, donors will be rewarded with a limited-edition t-shirt.  \n\n\n\nSchedule your donation here: https://lifeserve.info/life070524
X-ALT-DESC;FMTTYPE=text/html:<h2><span style="color:rgb(0\, 85\, 150)">&quot\;They call themselves the&nbsp\;<span style="color:rgb(181\, 18\, 27)"><em>LifeServers</em></span>...according to them\, they save the world.&quot\;</span></h2>\n\n<p>When there&#39\;s a blood shortage or patient need\, who does your local hospital call? They call LifeServe Blood Center and the LifeServers. This summer\, we invite you to join the lifesaving fight to save the world through blood donation! While it may not be as action packed or anxiety inducing as fighting ghosts\, there is a constant need for blood in our communities. Some may argue that a blood shortage is just as\, if not more\, terrifying than coming face to face with Slimer\, Muncher or Gozer.</p>\n\n<p>So\, what do you say\, will you answer the call and join LifeServe Blood Center and Life 107.1 on Friday\, July 5 from 11a.m. to 4:30p.m. at the Valley Community Center. To thank you for saving the world in the fight against the blood supply shortage\, donors will be rewarded with a limited-edition t-shirt.&nbsp\;&nbsp\;<br />\n<br />\nSchedule your donation here:&nbsp\;https://lifeserve.info/life070524</p>\n
LOCATION:Valley Community Center: 4444 Fuller Road\, West Des Moines\, IA
UID:e.2655.3847
SEQUENCE:3
DTSTAMP:20260423T152834Z
URL:https://members.wdmchamber.org/events/details/life-107-1-blood-drive-with-lifeserve-3847
END:VEVENT

END:VCALENDAR
