BEGIN:VCALENDAR
VERSION:2.0
PRODID:-//ChamberMaster//Event Calendar 2.0//EN
METHOD:PUBLISH
X-PUBLISHED-TTL:P3D
REFRESH-INTERVAL:P3D
CALSCALE:GREGORIAN
BEGIN:VEVENT
DTSTART:20240420T010000Z
DTEND:20240420T040000Z
X-MICROSOFT-CDO-ALLDAYEVENT:FALSE
SUMMARY:Luke Stutzman
DESCRIPTION:2023 IMA Acoustic Artist of the Year - Luke Stutzman is a central Iowa Americana Singer-songwriter that weaves honest stories of life in the midwest. He is a unique musician influenced by the Allman Brothers\, Ray Charles\, Johnny Cash and Hendrix. Must be 21 or older to attend. Don't miss this free show!
X-ALT-DESC;FMTTYPE=text/html:<div>\n<div>\n<p>2023 IMA Acoustic Artist of the Year - Luke Stutzman is a central Iowa Americana Singer-songwriter that weaves honest stories of life in the midwest. He is a unique musician influenced by the Allman Brothers\, Ray Charles\, Johnny Cash and Hendrix. Must be 21 or older to attend. Don&rsquo\;t miss this free show!</p>\n</div>\n</div>\n
LOCATION:Prairie Meadows Casino\, Racetrack\, & Hotel 1 Prairie Meadows Dr\, Altoona\, IA
UID:e.2655.3694
SEQUENCE:3
DTSTAMP:20260423T183706Z
URL:https://members.wdmchamber.org/events/details/luke-stutzman-04-19-2024-3694
END:VEVENT

END:VCALENDAR
