BEGIN:VCALENDAR
VERSION:2.0
PRODID:-//ChamberMaster//Event Calendar 2.0//EN
METHOD:PUBLISH
X-PUBLISHED-TTL:P3D
REFRESH-INTERVAL:P3D
CALSCALE:GREGORIAN
BEGIN:VEVENT
DTSTART:20240820T160000Z
DTEND:20270711T200000Z
X-MICROSOFT-CDO-ALLDAYEVENT:FALSE
SUMMARY:Lunch Tuesdays-Saturdays
DESCRIPTION:Available Tuesday - Saturday at 11AM for\n\ndine-in\, carry out and delivery.
X-ALT-DESC;FMTTYPE=text/html:<span style="background-color:rgb(251\, 248\, 243)\; font-family:barlow\,sans-serif\; font-size:16px">Available Tuesday - Saturday at 11AM for</span><br />\n<span style="background-color:rgb(251\, 248\, 243)\; font-family:barlow\,sans-serif\; font-size:16px">dine-in\, carry out and delivery.</span>
LOCATION:
UID:e.2655.3980
SEQUENCE:3
DTSTAMP:20260419T181825Z
URL:https://members.wdmchamber.org/events/details/lunch-tuesdays-saturdays-3980
END:VEVENT

END:VCALENDAR
