BEGIN:VCALENDAR
VERSION:2.0
PRODID:-//ChamberMaster//Event Calendar 2.0//EN
METHOD:PUBLISH
X-PUBLISHED-TTL:P3D
REFRESH-INTERVAL:P3D
CALSCALE:GREGORIAN
BEGIN:VEVENT
DTSTART:20241228T190000Z
DTEND:20241228T210000Z
X-MICROSOFT-CDO-ALLDAYEVENT:FALSE
SUMMARY:Matt Woods
DESCRIPTION:This Iowa native is bringing a show for every musical taste. Come listen to Matt Woods perform his solo act of country\, folk\, blues\, and more at the Finish Line Show Lounge. Must be 21 or older to attend.
X-ALT-DESC;FMTTYPE=text/html:<span style="font-family:calibri\,sans-serif"><span style="font-size:11.0pt">This Iowa native is bringing a show for every musical taste. Come listen to Matt Woods perform his solo act of country\, folk\, blues\, and more at the Finish Line Show Lounge. Must be 21 or older to attend. </span></span>
LOCATION:Prairie Meadows Casino & Racetrack 1 Prairie Meadows Dr\, Altoona\, IA 50009
UID:e.2655.4192
SEQUENCE:3
DTSTAMP:20260421T082739Z
URL:https://members.wdmchamber.org/events/details/matt-woods-4192
END:VEVENT

END:VCALENDAR
