BEGIN:VCALENDAR
VERSION:2.0
PRODID:-//ChamberMaster//Event Calendar 2.0//EN
METHOD:PUBLISH
X-PUBLISHED-TTL:P3D
REFRESH-INTERVAL:P3D
CALSCALE:GREGORIAN
BEGIN:VEVENT
DTSTART:20230504T163000Z
DTEND:20230504T180000Z
X-MICROSOFT-CDO-ALLDAYEVENT:FALSE
SUMMARY:May Luncheon: Citizen of the Year/State of the City
DESCRIPTION:Join the community and region at the West Des Moines CITIZEN OF THE YEAR LUNCHEON on May 4th 11:30-1:00pm where we will be honoring Tina Mowry Hadden who is West Des Moines' 2023 CITIZEN OF THE YEAR! Help us recognize her and how she has supported our beautiful city and school district! PLUS: hear from Mayor Russ Trimble at his annual State of the City address where we will learn about all of the growth and advancements the city is involved with. And\, who knows\, you might get some inside scoop too! \n\n\n\nClick here to learn about Tina Mowry Hadden's accomplishments. \n\n\n\nThe WDM Chamber and City of West Des Moines also annually recognize a WDM resident or business professional for Citizen of the Year. This honor was created to promote and recognize the people\, businesses and civic organizations that make this a great community in which to live\, work and raise a family. Join us as we honor the 2023 Citizen of the Year. \n\nView past honorees here. \n\n\n\n\n\n\n\n\n\nNotice of Photographic & Media Recording: When you attend a West Des Moines Chamber of Commerce event\, photography\, audio\, and video recording may occur. By attending this event\, you consent to such recording media and your image and likeness being used in connection with the advertising\, marketing\, and promotion of the West Des Moines Chamber of Commerce and/or City of West Des Moines.
X-ALT-DESC;FMTTYPE=text/html:<p><span style="font-family:arial\;"><span style="color: rgba(0\, 0\, 0\, 0.9)\; background-color: rgb(255\, 255\, 255)\;">Join the community and region at the West Des Moines CITIZEN OF THE YEAR LUNCHEON on May 4th 11:30-1:00pm where we will be honoring Tina Mowry Hadden&nbsp\;</span><span style="color: rgba(0\, 0\, 0\, 0.9)\; background-color: rgb(255\, 255\, 255)\;">who is West Des Moines&#39\;&nbsp\;2023 CITIZEN OF THE YEAR! Help us recognize her and how she has supported our beautiful city and school district! PLUS: hear from Mayor Russ Trimble at his annual State of the City address where we will learn about all of the growth and advancements the city is involved with. And\, who knows\, you might get some inside scoop too!&nbsp\;<br />\n<br />\n<a href="https://members.wdmchamber.org/news/details/citizen-of-the-year-2023-tina-mowry-hadden">Click here to learn </a>about Tina Mowry Hadden&#39\;s accomplishments.&nbsp\;</span></span><br />\n<br />\n<span style="font-family:arial\;"><span style="color: rgb(0\, 0\, 0)\;">The WDM Chamber and City of West Des Moines also annually&nbsp\;<span style="box-sizing: border-box\;"><span style="box-sizing: border-box\;">recognize a WDM resident or business professional for Citizen of the Year.&nbsp\;This honor&nbsp\;was created to promote and recognize the people\, businesses and civic organizations that make this a great community in which to live\, work and raise a family</span></span>.&nbsp\;</span>Join us as we honor the&nbsp\;<strong>2023&nbsp\;Citizen of the Year.</strong>&nbsp\;</span></p>\n\n<p style="box-sizing: border-box\; font-size: 20px\; line-height: 1.5\; margin-top: 0px\; margin-bottom: 1rem\; font-family: Montserrat\, sans-serif\; color: rgb(25\, 25\, 25)\;"><strong><a href="https://wdmchamber.org/wp-content/uploads/2020/06/Past-Honorees.pdf"><span style="font-family: arial\;"><span style="box-sizing: border-box\;">View past honorees here.</span></span></a>&nbsp\;</strong><br />\n<br />\n<br />\n<br />\n<br />\n<strong style="font-size: 10px\;">Notice of Photographic &amp\; Media Recording</strong><span style="font-size: 10px\;">: When you attend a West Des Moines Chamber of Commerce event\, photography\, audio\, and video recording may occur. By attending this event\, you consent to such recording media and your image and likeness being used in connection with the advertising\, marketing\, and promotion of the West Des Moines Chamber of Commerce and/or City of West Des Moines.</span></p>\n
LOCATION:Valley Community Center 4444 Fuller Road West Des Moines\, IA 50265
UID:e.2655.1742
SEQUENCE:3
DTSTAMP:20260424T134926Z
URL:https://members.wdmchamber.org/events/details/may-luncheon-citizen-of-the-year-state-of-the-city-1742
END:VEVENT

END:VCALENDAR
