BEGIN:VCALENDAR
VERSION:2.0
PRODID:-//ChamberMaster//Event Calendar 2.0//EN
METHOD:PUBLISH
X-PUBLISHED-TTL:P3D
REFRESH-INTERVAL:P3D
CALSCALE:GREGORIAN
BEGIN:VEVENT
DTSTART;VALUE=DATE:20240822
DTEND;VALUE=DATE:20240823
TRANSP:TRANSPARENT
X-MICROSOFT-CDO-ALLDAYEVENT:TRUE
SUMMARY:Mulligans and Raffle Tickets: West Metro Golf Par Tee 2024
DESCRIPTION:You can purchase mulligans and raffle tickets for the West Metro Golf Par Tee on this page\, and you will pick them up at check in the day of the tournament.\n\n\n\nMulligans are $5 each and limited to 1 per golfer. Purchasing a mulligan will enter you for door prize. \n\n\n\nRaffle tickets are 1 for $5\, 4 for $10\, and 10 for $20. No limit for amount that can be purchased. \n\n\n\nDeadline for purchase: August 15 at 10:00AM.
X-ALT-DESC;FMTTYPE=text/html:<br />\n<span style="font-size:16px\;"><span style="font-family:arial\;">You can purchase mulligans and raffle tickets for the West Metro Golf Par Tee on this page\, and you will pick them up at check in the day of the tournament.<br />\n<br />\n<strong>Mulligans</strong> are $5 each and limited to 1 per golfer. Purchasing a mulligan will enter you for door prize.&nbsp\;<br />\n<br />\n<strong>Raffle tickets</strong> are 1 for $5\, 4 for $10\, and 10 for $20. No limit for amount that can be purchased.&nbsp\;<br />\n<br />\n<strong>Deadline for purchase:</strong><span style="color:#FF0000\;"><strong> </strong></span>August 15 at 10:00AM.</span></span>
LOCATION:
UID:e.2655.3667
SEQUENCE:3
DTSTAMP:20260421T085633Z
URL:https://members.wdmchamber.org/events/details/mulligans-and-raffle-tickets-west-metro-golf-par-tee-2024-3667
END:VEVENT

END:VCALENDAR
